BEGIN:VCALENDAR
VERSION:2.0
PRODID:-//Imagina Alcobendas - ECPv5.14.2.1//NONSGML v1.0//EN
CALSCALE:GREGORIAN
METHOD:PUBLISH
X-WR-CALNAME:Imagina Alcobendas
X-ORIGINAL-URL:https://www.imaginalcobendas.org
X-WR-CALDESC:Eventos para Imagina Alcobendas
BEGIN:VTIMEZONE
TZID:Europe/Madrid
BEGIN:DAYLIGHT
TZOFFSETFROM:+0100
TZOFFSETTO:+0200
TZNAME:CEST
DTSTART:20180325T010000
END:DAYLIGHT
BEGIN:STANDARD
TZOFFSETFROM:+0200
TZOFFSETTO:+0100
TZNAME:CET
DTSTART:20181028T010000
END:STANDARD
END:VTIMEZONE
BEGIN:VEVENT
DTSTART;TZID=Europe/Madrid:20181020T180000
DTEND;TZID=Europe/Madrid:20181020T200000
DTSTAMP:20260425T150603
CREATED:20181002T095439Z
LAST-MODIFIED:20181016T091435Z
UID:16926-1540058400-1540065600@www.imaginalcobendas.org
SUMMARY:Yincana en Aventurarte
DESCRIPTION:¿Que qué es Alcobendas Express?Este sábado tenemos una trepidante yincana por las calles de nuestra ciudad\, con diferentes pruebas\, retos\, obstáculos y… ¡alguna sorpresa! ¿Gana el equipo que primero llegue? A veces ser el equipo más rápido no es lo más importante. Orientación\, cálculo\, coordinación\, cultura\, todo cuenta. ¡Todo es necesario para superar la yincana! ¿Con ganas de empezar?
URL:https://www.imaginalcobendas.org/evento/yincana-en-aventurarte/
LOCATION:Centro de Arte  Alcobendas\, C/ Mariano Sebastián Izuel\, 9\, Alcobendas\, Madrid\, 28100\, España
CATEGORIES:IMAGINA KIDS,Infancia
ATTACH;FMTTYPE=image/jpeg:https://www.imaginalcobendas.org/wp-content/uploads/2017/05/yincana.jpg
GEO:40.5412343;-3.6304039
X-APPLE-STRUCTURED-LOCATION;VALUE=URI;X-ADDRESS=Centro de Arte  Alcobendas C/ Mariano Sebastián Izuel 9 Alcobendas Madrid 28100 España;X-APPLE-RADIUS=500;X-TITLE=C/ Mariano Sebastián Izuel\, 9:geo:-3.6304039,40.5412343
END:VEVENT
END:VCALENDAR