BEGIN:VCALENDAR
VERSION:2.0
PRODID:-//Imagina Alcobendas - ECPv5.14.2.1//NONSGML v1.0//EN
CALSCALE:GREGORIAN
METHOD:PUBLISH
X-WR-CALNAME:Imagina Alcobendas
X-ORIGINAL-URL:https://www.imaginalcobendas.org
X-WR-CALDESC:Eventos para Imagina Alcobendas
BEGIN:VTIMEZONE
TZID:Europe/Madrid
BEGIN:DAYLIGHT
TZOFFSETFROM:+0100
TZOFFSETTO:+0200
TZNAME:CEST
DTSTART:20220327T010000
END:DAYLIGHT
BEGIN:STANDARD
TZOFFSETFROM:+0200
TZOFFSETTO:+0100
TZNAME:CET
DTSTART:20221030T010000
END:STANDARD
END:VTIMEZONE
BEGIN:VEVENT
DTSTART;TZID=Europe/Madrid:20220220T090000
DTEND;TZID=Europe/Madrid:20220220T163000
DTSTAMP:20260424T195017
CREATED:20220207T105248Z
LAST-MODIFIED:20220209T165105Z
UID:34042-1645347600-1645374600@www.imaginalcobendas.org
SUMMARY:Visita a Toledo
DESCRIPTION:Visita a Toledo\, Ciudad Patrimonio de la Humanidad con un programa cultural y de aventura.\nUna visita guiada que durará 2h. aproximadamente. Te llevarán por la ciudad más emblemática\, verás la catedral\, sinagogas\, iglesias\, la plaza de Zocodover para acabar en el parque del Tránsito. Lo más emblemático de esta ciudad\, donde conviven tres culturas y religiones distintas\, la cristiana\, la judía y la musulmana.\nAdemás dos actividades relacionadas con la naturaleza y la multiaventura: Tiro con arco y un circuito de orientación que durará 1h45 aproximadamente.\nInscripciones \nEl precio para empadronados es de 7 euros e incluye seguro\, guía profesional\, visita guiada\, actividades\, bus y monitores. No incluye la comida
URL:https://www.imaginalcobendas.org/evento/vista-a-toledo/
LOCATION:Alcobendas\, Madrid\, España
CATEGORIES:Ocio
ATTACH;FMTTYPE=image/jpeg:https://www.imaginalcobendas.org/wp-content/uploads/2020/02/descubre-toledo.jpg
END:VEVENT
END:VCALENDAR