BEGIN:VCALENDAR
VERSION:2.0
PRODID:-//Imagina Alcobendas - ECPv5.14.2.1//NONSGML v1.0//EN
CALSCALE:GREGORIAN
METHOD:PUBLISH
X-WR-CALNAME:Imagina Alcobendas
X-ORIGINAL-URL:https://www.imaginalcobendas.org
X-WR-CALDESC:Eventos para Imagina Alcobendas
BEGIN:VTIMEZONE
TZID:Europe/Madrid
BEGIN:DAYLIGHT
TZOFFSETFROM:+0100
TZOFFSETTO:+0200
TZNAME:CEST
DTSTART:20170326T010000
END:DAYLIGHT
BEGIN:STANDARD
TZOFFSETFROM:+0200
TZOFFSETTO:+0100
TZNAME:CET
DTSTART:20171029T010000
END:STANDARD
END:VTIMEZONE
BEGIN:VEVENT
DTSTART;TZID=Europe/Madrid:20170203T200000
DTEND;TZID=Europe/Madrid:20170203T210000
DTSTAMP:20260423T232707
CREATED:20170125T165129Z
LAST-MODIFIED:20170126T134747Z
UID:9310-1486152000-1486155600@www.imaginalcobendas.org
SUMMARY:Vaudeville Sauvage
DESCRIPTION:La comedia llega al espacio de artes escénicas con el Vaudeville Sauvage. Álex Gozalo\, Gonzalo Isidro y Gonza Fernández son los cómicos que estarán este próximo viernes 3 de febrero en Imagina.\nEl espectáculo comenzará a las 20 h. con entrada libre. Estos tres cómicos locales ya llevan una larga trayectoria encima de los escenarios y llevando a cabo otros proyectos. Gonzalo Isidro es el autor de ‘Las letrinas del cine’. Alex y Gonza son los presentadores de ‘No te rías que esto es serio’\, programa de actualidad y humor que se emite cada domingo a las 18 h. en Radio Utopía. La cita es en c/ Ruperto Chapí\, 18 Imagina.
URL:https://www.imaginalcobendas.org/evento/vaudeville-sauvage-2/
LOCATION:Imagina Alcobendas\, C/Ruperto Chapí\, 18 \, Alcobendas\, Comunidad de Madrid\, 28100\, España
CATEGORIES:Ocio
ATTACH;FMTTYPE=image/jpeg:https://www.imaginalcobendas.org/wp-content/uploads/2017/01/VAUDE.jpg
GEO:40.5480636;-3.6442078
X-APPLE-STRUCTURED-LOCATION;VALUE=URI;X-ADDRESS=Imagina Alcobendas C/Ruperto Chapí 18  Alcobendas Comunidad de Madrid 28100 España;X-APPLE-RADIUS=500;X-TITLE=C/Ruperto Chapí\, 18:geo:-3.6442078,40.5480636
END:VEVENT
END:VCALENDAR