BEGIN:VCALENDAR
VERSION:2.0
PRODID:-//Imagina Alcobendas - ECPv5.14.2.1//NONSGML v1.0//EN
CALSCALE:GREGORIAN
METHOD:PUBLISH
X-WR-CALNAME:Imagina Alcobendas
X-ORIGINAL-URL:https://www.imaginalcobendas.org
X-WR-CALDESC:Eventos para Imagina Alcobendas
BEGIN:VTIMEZONE
TZID:Europe/Madrid
BEGIN:DAYLIGHT
TZOFFSETFROM:+0100
TZOFFSETTO:+0200
TZNAME:CEST
DTSTART:20160327T010000
END:DAYLIGHT
BEGIN:STANDARD
TZOFFSETFROM:+0200
TZOFFSETTO:+0100
TZNAME:CET
DTSTART:20161030T010000
END:STANDARD
END:VTIMEZONE
BEGIN:VEVENT
DTSTART;TZID=Europe/Madrid:20160122T200000
DTEND;TZID=Europe/Madrid:20160122T220000
DTSTAMP:20260424T181926
CREATED:20160119T145111Z
LAST-MODIFIED:20160119T145444Z
UID:4238-1453492800-1453500000@www.imaginalcobendas.org
SUMMARY:Toc toc teatro
DESCRIPTION:La asociación juvenil Whatever tiene el orgullo de presentar Toc Toc: una risoterapia interpretativa cuya representación será el día 22 de Enero a las 20 h en el Centro Cultural Pablo Iglesias de Alcobendas. Las entradas se pueden recoger una hora antes en taquilla por 1 euro.\nSiete personas esperan en la sala de espera de una consulta a ser antentidos por la Doctora Soto Mayor\, la mejor psicóloga especializada en TOCS (trastornos obsesivos compulsivos) pero varios incidentes hacen que esta Doctora no llegue a tiempo teniendo que hacer entre ellos una terapia grupal improvisada ¿Les dará resultado?..¡No te lo pierdas!
URL:https://www.imaginalcobendas.org/evento/toc-toc-teatro/
LOCATION:Centro Cultural Pablo Iglesias\, Pso. Chopera\, 54\, Alcobendas\, Madrid\, 28100\, España
CATEGORIES:Imagina Joven,Ocio
ATTACH;FMTTYPE=image/jpeg:https://www.imaginalcobendas.org/wp-content/uploads/2016/01/Toc_toc__peq.jpg
GEO:40.5410681;-3.6408709
X-APPLE-STRUCTURED-LOCATION;VALUE=URI;X-ADDRESS=Centro Cultural Pablo Iglesias Pso. Chopera 54 Alcobendas Madrid 28100 España;X-APPLE-RADIUS=500;X-TITLE=Pso. Chopera\, 54:geo:-3.6408709,40.5410681
END:VEVENT
END:VCALENDAR