BEGIN:VCALENDAR
VERSION:2.0
PRODID:-//Imagina Alcobendas - ECPv5.14.2.1//NONSGML v1.0//EN
CALSCALE:GREGORIAN
METHOD:PUBLISH
X-WR-CALNAME:Imagina Alcobendas
X-ORIGINAL-URL:https://www.imaginalcobendas.org
X-WR-CALDESC:Eventos para Imagina Alcobendas
BEGIN:VTIMEZONE
TZID:Europe/Madrid
BEGIN:DAYLIGHT
TZOFFSETFROM:+0100
TZOFFSETTO:+0200
TZNAME:CEST
DTSTART:20230326T010000
END:DAYLIGHT
BEGIN:STANDARD
TZOFFSETFROM:+0200
TZOFFSETTO:+0100
TZNAME:CET
DTSTART:20231029T010000
END:STANDARD
END:VTIMEZONE
BEGIN:VEVENT
DTSTART;TZID=Europe/Madrid:20230706T200000
DTEND;TZID=Europe/Madrid:20230706T220000
DTSTAMP:20260424T005045
CREATED:20230622T091211Z
LAST-MODIFIED:20230622T091434Z
UID:39176-1688673600-1688680800@www.imaginalcobendas.org
SUMMARY:TE RETAMOS
DESCRIPTION:Vuelve Imagina en los Parques\, una actividad para jóvenes de 14 a 30 años.\nActívate\, supera retos que te llevarán a un humor un tanto amarillo.\nJUEGOS DE MESA con CLANDESTINO\nTe esperamos en el Parque de Castilla La Mancha
URL:https://www.imaginalcobendas.org/evento/te-retamos/
LOCATION:Alcobendas\, Madrid\, España
CATEGORIES:Ocio
ATTACH;FMTTYPE=image/jpeg:https://www.imaginalcobendas.org/wp-content/uploads/2023/06/2.jpg
GEO:40.4167754;-3.7037902
END:VEVENT
END:VCALENDAR