BEGIN:VCALENDAR
VERSION:2.0
PRODID:-//Imagina Alcobendas - ECPv5.14.2.1//NONSGML v1.0//EN
CALSCALE:GREGORIAN
METHOD:PUBLISH
X-WR-CALNAME:Imagina Alcobendas
X-ORIGINAL-URL:https://www.imaginalcobendas.org
X-WR-CALDESC:Eventos para Imagina Alcobendas
BEGIN:VTIMEZONE
TZID:Europe/Madrid
BEGIN:DAYLIGHT
TZOFFSETFROM:+0100
TZOFFSETTO:+0200
TZNAME:CEST
DTSTART:20190331T010000
END:DAYLIGHT
BEGIN:STANDARD
TZOFFSETFROM:+0200
TZOFFSETTO:+0100
TZNAME:CET
DTSTART:20191027T010000
END:STANDARD
END:VTIMEZONE
BEGIN:VEVENT
DTSTART;TZID=Europe/Madrid:20191020T130000
DTEND;TZID=Europe/Madrid:20191020T233000
DTSTAMP:20260425T040853
CREATED:20191011T143352Z
LAST-MODIFIED:20191011T143353Z
UID:22117-1571576400-1571614200@www.imaginalcobendas.org
SUMMARY:Tapea con Imagina tu Noche por 1 €
DESCRIPTION:Imagina tu Noche te invita a ir de tapas los sábados 19 y 26 de octubre por 1€. La cita del 19 de octubre será en el restaurante La Roux\, situado en la calle Francisco Largo Caballero\, 20\, con su habitual y sabrosa oferta. Y al sábado siguiente\, en el Parque de la Comunidad de Madrid\, durante la Feria Juvenil de la Semana de la Juventud. Allí podrás degustar las tapas que encontrarás en las food trucks que asistan a esta feria.\nPara saborear esta rica oferta\, lo único que debes hacer es pasarte por Imagina (a partir del jueves 10 de octubre) a recoger tu\nvale. Es para los jóvenes empadronados en Alcobendas de 16 a 30 años y solo se entregará un vale por persona.\n¡Los vales son limitados\, no pierdas la oportunidad!
URL:https://www.imaginalcobendas.org/evento/tapea-con-imagina-tu-noche-por-1-e/2019-10-20/
LOCATION:Alcobendas\, Madrid\, España
CATEGORIES:Imagina Joven,Ocio
ATTACH;FMTTYPE=image/jpeg:https://www.imaginalcobendas.org/wp-content/uploads/2019/10/tapas.jpg
END:VEVENT
END:VCALENDAR