BEGIN:VCALENDAR
VERSION:2.0
PRODID:-//Imagina Alcobendas - ECPv5.14.2.1//NONSGML v1.0//EN
CALSCALE:GREGORIAN
METHOD:PUBLISH
X-WR-CALNAME:Imagina Alcobendas
X-ORIGINAL-URL:https://www.imaginalcobendas.org
X-WR-CALDESC:Eventos para Imagina Alcobendas
BEGIN:VTIMEZONE
TZID:Europe/Madrid
BEGIN:DAYLIGHT
TZOFFSETFROM:+0100
TZOFFSETTO:+0200
TZNAME:CEST
DTSTART:20160327T010000
END:DAYLIGHT
BEGIN:STANDARD
TZOFFSETFROM:+0200
TZOFFSETTO:+0100
TZNAME:CET
DTSTART:20161030T010000
END:STANDARD
END:VTIMEZONE
BEGIN:VEVENT
DTSTART;TZID=Europe/Madrid:20161108T110000
DTEND;TZID=Europe/Madrid:20161108T130000
DTSTAMP:20260423T180419
CREATED:20161019T174133Z
LAST-MODIFIED:20161028T115220Z
UID:8450-1478602800-1478610000@www.imaginalcobendas.org
SUMMARY:Taller sobre las emociones: La tristeza
DESCRIPTION:Si quieres ser feliz cambia tu visión de la felicidad\, por una felicidad entendida como libertad de decisión y acción. Entonces la tristeza y ese vacío existencial seguramente\, te van a abandonar. Recobra la ilusión\, la alegría y te vas a sentir feliz.\nDirigido a jóvenes entre 18 y 35 años\, las inscripciones se pueden hacer presencialmente en la calle Ruperto Chapí\, 18\, por teléfono en el 916590957 o por correo electrónico a la siguiente dirección oij@imagina.aytoalcobendas.org
URL:https://www.imaginalcobendas.org/evento/taller-sobre-las-emociones-la-tristeza/
LOCATION:Imagina Alcobendas\, C/Ruperto Chapí\, 18 \, Alcobendas\, Comunidad de Madrid\, 28100\, España
CATEGORIES:Cursos y Talleres,Talleres
ATTACH;FMTTYPE=image/jpeg:https://www.imaginalcobendas.org/wp-content/uploads/2016/10/tristeza.jpg
GEO:40.5480636;-3.6442078
X-APPLE-STRUCTURED-LOCATION;VALUE=URI;X-ADDRESS=Imagina Alcobendas C/Ruperto Chapí 18  Alcobendas Comunidad de Madrid 28100 España;X-APPLE-RADIUS=500;X-TITLE=C/Ruperto Chapí\, 18:geo:-3.6442078,40.5480636
END:VEVENT
END:VCALENDAR