BEGIN:VCALENDAR
VERSION:2.0
PRODID:-//Imagina Alcobendas - ECPv5.14.2.1//NONSGML v1.0//EN
CALSCALE:GREGORIAN
METHOD:PUBLISH
X-WR-CALNAME:Imagina Alcobendas
X-ORIGINAL-URL:https://www.imaginalcobendas.org
X-WR-CALDESC:Eventos para Imagina Alcobendas
BEGIN:VTIMEZONE
TZID:Europe/Madrid
BEGIN:DAYLIGHT
TZOFFSETFROM:+0100
TZOFFSETTO:+0200
TZNAME:CEST
DTSTART:20220327T010000
END:DAYLIGHT
BEGIN:STANDARD
TZOFFSETFROM:+0200
TZOFFSETTO:+0100
TZNAME:CET
DTSTART:20221030T010000
END:STANDARD
END:VTIMEZONE
BEGIN:VEVENT
DTSTART;TZID=Europe/Madrid:20220315T180000
DTEND;TZID=Europe/Madrid:20220315T193000
DTSTAMP:20260424T195145
CREATED:20220303T130658Z
LAST-MODIFIED:20220303T130658Z
UID:34173-1647367200-1647372600@www.imaginalcobendas.org
SUMMARY:Taller: Gestión Emocional Familiar
DESCRIPTION:¿Quieres ayudar a tu hijo/a a entender mejor sus emociones y no sabes muy bien cómo hacerlo?\nLa Asesoría Psicológica de Imagina  organiza un taller dirigido a familias inminentemente práctico donde te acercará herramientas necesarias para apoyar y ayudar a gestionar las emociones propias y de los más jóvenes y dar salida de una forma más saludable.\nDirigido a padres\, madres\, tutores.\nInformación e inscripciones
URL:https://www.imaginalcobendas.org/evento/taller-gestion-emocional-familiar/
LOCATION:Alcobendas\, Madrid\, España
CATEGORIES:Cursos y Talleres,Sesiones informativas
ATTACH;FMTTYPE=image/jpeg:https://www.imaginalcobendas.org/wp-content/uploads/2022/03/emociones-en-familia.jpg
END:VEVENT
END:VCALENDAR