BEGIN:VCALENDAR
VERSION:2.0
PRODID:-//Imagina Alcobendas - ECPv5.14.2.1//NONSGML v1.0//EN
CALSCALE:GREGORIAN
METHOD:PUBLISH
X-WR-CALNAME:Imagina Alcobendas
X-ORIGINAL-URL:https://www.imaginalcobendas.org
X-WR-CALDESC:Eventos para Imagina Alcobendas
BEGIN:VTIMEZONE
TZID:Europe/Madrid
BEGIN:DAYLIGHT
TZOFFSETFROM:+0100
TZOFFSETTO:+0200
TZNAME:CEST
DTSTART:20180325T010000
END:DAYLIGHT
BEGIN:STANDARD
TZOFFSETFROM:+0200
TZOFFSETTO:+0100
TZNAME:CET
DTSTART:20181028T010000
END:STANDARD
END:VTIMEZONE
BEGIN:VEVENT
DTSTART;TZID=Europe/Madrid:20180322T180000
DTEND;TZID=Europe/Madrid:20180322T210000
DTSTAMP:20260421T221248
CREATED:20180301T155416Z
LAST-MODIFIED:20180302T110843Z
UID:14272-1521741600-1521752400@www.imaginalcobendas.org
SUMMARY:Taller: desing thinking en la resolución de problemas
DESCRIPTION:La vida nos ofrece retos continuamente y entrenar tu lado creativo te permite afrontar la toma de decisiones con más información\, más recursos y más seguridad. Impulsa tu desarrollo personal y profesional aprendiendo una nueva forma de crear e innovar\, y aprender mientras se crea y se buscan nuevas soluciones realizando un curso de Design Thinking en la Resolución de Problemas.\nMás información e inscripciones
URL:https://www.imaginalcobendas.org/evento/taller-desing-thinking-en-la-resolucion-de-problemas/
LOCATION:Imagina Alcobendas\, C/Ruperto Chapí\, 18 \, Alcobendas\, Comunidad de Madrid\, 28100\, España
CATEGORIES:Cursos y Talleres,Talleres
ATTACH;FMTTYPE=image/jpeg:https://www.imaginalcobendas.org/wp-content/uploads/2018/03/manos-resol-conflictos.jpg
GEO:40.5480636;-3.6442078
X-APPLE-STRUCTURED-LOCATION;VALUE=URI;X-ADDRESS=Imagina Alcobendas C/Ruperto Chapí 18  Alcobendas Comunidad de Madrid 28100 España;X-APPLE-RADIUS=500;X-TITLE=C/Ruperto Chapí\, 18:geo:-3.6442078,40.5480636
END:VEVENT
END:VCALENDAR