BEGIN:VCALENDAR
VERSION:2.0
PRODID:-//Imagina Alcobendas - ECPv5.14.2.1//NONSGML v1.0//EN
CALSCALE:GREGORIAN
METHOD:PUBLISH
X-WR-CALNAME:Imagina Alcobendas
X-ORIGINAL-URL:https://www.imaginalcobendas.org
X-WR-CALDESC:Eventos para Imagina Alcobendas
BEGIN:VTIMEZONE
TZID:Europe/Madrid
BEGIN:DAYLIGHT
TZOFFSETFROM:+0100
TZOFFSETTO:+0200
TZNAME:CEST
DTSTART:20180325T010000
END:DAYLIGHT
BEGIN:STANDARD
TZOFFSETFROM:+0200
TZOFFSETTO:+0100
TZNAME:CET
DTSTART:20181028T010000
END:STANDARD
END:VTIMEZONE
BEGIN:VEVENT
DTSTART;TZID=Europe/Madrid:20180616T190000
DTEND;TZID=Europe/Madrid:20180616T203000
DTSTAMP:20260421T192027
CREATED:20180530T181238Z
LAST-MODIFIED:20180611T100818Z
UID:15401-1529175600-1529181000@www.imaginalcobendas.org
SUMMARY:Submarinismo en Imagina tu Noche
DESCRIPTION:El sábado 16 de junio\, en Imagina tu noche le toca el turno al deporte. En las instalaciones del polideportivo José Caballero\, los jóvenes de 16 a 30 años\, podrán elegir entre varias actividades deportivas y de ocio\, desde las 17:30 h y submarinismo es una de ellas en colaboración con la Asociación de submarinismo de Alcobendas.\nMás info e inscripciones
URL:https://www.imaginalcobendas.org/evento/taller-de-submarinismo-avanzado-en-imagina-tu-noche/
LOCATION:Polideportivo José Caballero\, Ctra. Barajas\, Km 1\,400\, Alcobendas\, Madrid\, España
CATEGORIES:Cursos y Talleres,Imagina Joven,Ocio,Talleres
ATTACH;FMTTYPE=image/jpeg:https://www.imaginalcobendas.org/wp-content/uploads/2016/06/submarinismo-home.jpg
GEO:40.5370651;-3.6207117
X-APPLE-STRUCTURED-LOCATION;VALUE=URI;X-ADDRESS=Polideportivo José Caballero Ctra. Barajas Km 1400 Alcobendas Madrid España;X-APPLE-RADIUS=500;X-TITLE=Ctra. Barajas\, Km 1\,400:geo:-3.6207117,40.5370651
END:VEVENT
END:VCALENDAR