BEGIN:VCALENDAR
VERSION:2.0
PRODID:-//Imagina Alcobendas - ECPv5.14.2.1//NONSGML v1.0//EN
CALSCALE:GREGORIAN
METHOD:PUBLISH
X-WR-CALNAME:Imagina Alcobendas
X-ORIGINAL-URL:https://www.imaginalcobendas.org
X-WR-CALDESC:Eventos para Imagina Alcobendas
BEGIN:VTIMEZONE
TZID:Europe/Madrid
BEGIN:DAYLIGHT
TZOFFSETFROM:+0100
TZOFFSETTO:+0200
TZNAME:CEST
DTSTART:20200329T010000
END:DAYLIGHT
BEGIN:STANDARD
TZOFFSETFROM:+0200
TZOFFSETTO:+0100
TZNAME:CET
DTSTART:20201025T010000
END:STANDARD
END:VTIMEZONE
BEGIN:VEVENT
DTSTART;TZID=Europe/Madrid:20200304T180000
DTEND;TZID=Europe/Madrid:20200304T200000
DTSTAMP:20260424T153808
CREATED:20200212T103228Z
LAST-MODIFIED:20200212T103651Z
UID:23536-1583344800-1583352000@www.imaginalcobendas.org
SUMMARY:Taller de risoterapia
DESCRIPTION:¿Y si descubrieras que existe una forma muy agradable y divertida de mejorar tu salud?\nHablamos de “la risa”\, uno de los elementos más importantes para obtener beneficios\, no solo psicológicos\, sino también físicos.\n \nMás información e inscripciones
URL:https://www.imaginalcobendas.org/evento/taller-de-risoterapia-2/
LOCATION:Imagina\, C/ Ruperto Chapí\, 18\, Alcobendas\, Madrid\, 28100\, España
CATEGORIES:Cursos y Talleres,Talleres
ATTACH;FMTTYPE=image/jpeg:https://www.imaginalcobendas.org/wp-content/uploads/2019/03/Risoterapia.jpg
END:VEVENT
END:VCALENDAR