BEGIN:VCALENDAR
VERSION:2.0
PRODID:-//Imagina Alcobendas - ECPv5.14.2.1//NONSGML v1.0//EN
CALSCALE:GREGORIAN
METHOD:PUBLISH
X-WR-CALNAME:Imagina Alcobendas
X-ORIGINAL-URL:https://www.imaginalcobendas.org
X-WR-CALDESC:Eventos para Imagina Alcobendas
BEGIN:VTIMEZONE
TZID:Europe/Madrid
BEGIN:DAYLIGHT
TZOFFSETFROM:+0100
TZOFFSETTO:+0200
TZNAME:CEST
DTSTART:20180325T010000
END:DAYLIGHT
BEGIN:STANDARD
TZOFFSETFROM:+0200
TZOFFSETTO:+0100
TZNAME:CET
DTSTART:20181028T010000
END:STANDARD
END:VTIMEZONE
BEGIN:VEVENT
DTSTART;VALUE=DATE:20180530
DTEND;VALUE=DATE:20180531
DTSTAMP:20260426T014108
CREATED:20180507T140137Z
LAST-MODIFIED:20180522T125025Z
UID:15083-1527638400-1527724799@www.imaginalcobendas.org
SUMMARY:Taller: aprendiendo a hablar en público
DESCRIPTION:
URL:https://www.imaginalcobendas.org/evento/taller-aprendiendo-a-hablar-en-publico/
LOCATION:Alcobendas\, Madrid\, España
CATEGORIES:Cursos y Talleres,Talleres
ATTACH;FMTTYPE=image/jpeg:https://www.imaginalcobendas.org/wp-content/uploads/2018/05/Hablando-en-público.jpg
END:VEVENT
END:VCALENDAR