BEGIN:VCALENDAR
VERSION:2.0
PRODID:-//Imagina Alcobendas - ECPv5.14.2.1//NONSGML v1.0//EN
CALSCALE:GREGORIAN
METHOD:PUBLISH
X-WR-CALNAME:Imagina Alcobendas
X-ORIGINAL-URL:https://www.imaginalcobendas.org
X-WR-CALDESC:Eventos para Imagina Alcobendas
BEGIN:VTIMEZONE
TZID:Europe/Madrid
BEGIN:DAYLIGHT
TZOFFSETFROM:+0100
TZOFFSETTO:+0200
TZNAME:CEST
DTSTART:20170326T010000
END:DAYLIGHT
BEGIN:STANDARD
TZOFFSETFROM:+0200
TZOFFSETTO:+0100
TZNAME:CET
DTSTART:20171029T010000
END:STANDARD
END:VTIMEZONE
BEGIN:VEVENT
DTSTART;TZID=Europe/Madrid:20171028T190000
DTEND;TZID=Europe/Madrid:20171028T230000
DTSTAMP:20260426T024504
CREATED:20170928T180536Z
LAST-MODIFIED:20171002T114802Z
UID:12840-1509217200-1509231600@www.imaginalcobendas.org
SUMMARY:Sharif Fernández en concierto
DESCRIPTION:Sharif llega a Alcobendas el sábado 28 de octubre con un concierto gratuito en la Esfera. Junto con Rondo & Traficantes de Quimeras (participantes de  concurso En Red: Música joven) y los ganadores del concurso de Rap.
URL:https://www.imaginalcobendas.org/evento/sharif-fernandez-en-concierto/
LOCATION:Centro Municipal La Esfera\, Avenida Olímpica\, 14\, Alcobendas\, Madrid\, 28100\, España
CATEGORIES:Imagina Joven,Ocio
ATTACH;FMTTYPE=image/jpeg:https://www.imaginalcobendas.org/wp-content/uploads/2017/09/Sharif.jpg
GEO:40.5371326;-3.6325421
X-APPLE-STRUCTURED-LOCATION;VALUE=URI;X-ADDRESS=Centro Municipal La Esfera Avenida Olímpica 14 Alcobendas Madrid 28100 España;X-APPLE-RADIUS=500;X-TITLE=Avenida Olímpica\, 14:geo:-3.6325421,40.5371326
END:VEVENT
END:VCALENDAR