BEGIN:VCALENDAR
VERSION:2.0
PRODID:-//Imagina Alcobendas - ECPv5.14.2.1//NONSGML v1.0//EN
CALSCALE:GREGORIAN
METHOD:PUBLISH
X-WR-CALNAME:Imagina Alcobendas
X-ORIGINAL-URL:https://www.imaginalcobendas.org
X-WR-CALDESC:Eventos para Imagina Alcobendas
BEGIN:VTIMEZONE
TZID:Europe/Madrid
BEGIN:DAYLIGHT
TZOFFSETFROM:+0100
TZOFFSETTO:+0200
TZNAME:CEST
DTSTART:20210328T010000
END:DAYLIGHT
BEGIN:STANDARD
TZOFFSETFROM:+0200
TZOFFSETTO:+0100
TZNAME:CET
DTSTART:20211031T010000
END:STANDARD
END:VTIMEZONE
BEGIN:VEVENT
DTSTART;TZID=Europe/Madrid:20210526T113000
DTEND;TZID=Europe/Madrid:20210526T123000
DTSTAMP:20260425T025104
CREATED:20210518T171332Z
LAST-MODIFIED:20210526T073236Z
UID:30401-1622028600-1622032200@www.imaginalcobendas.org
SUMMARY:Cita con Garantía Juvenil
DESCRIPTION:El Sistema Nacional de Garantía Juvenil de SEPE\, ofrece una webinar a través de teams.\nSe dará a conocer\, el programa financiado a nivel europeo\, para el fomento del empleo de Garantía Juvenil.\nApúntate si no sabes en qué consiste\, cuáles son los objetivos\, las metas y actividades del programa.\nUn especialista del SEPE contará cómo te puede ayudar a encontrar trabajo y formación.\nDirigido a jóvenes entre 16 y 30 años.\nInscripción
URL:https://www.imaginalcobendas.org/evento/sesion-informativa-garantia-juvenil/
LOCATION:Alcobendas\, Madrid\, España
CATEGORIES:Información
ATTACH;FMTTYPE=image/png:https://www.imaginalcobendas.org/wp-content/uploads/2021/05/GJ-2.png
END:VEVENT
END:VCALENDAR