BEGIN:VCALENDAR
VERSION:2.0
PRODID:-//Imagina Alcobendas - ECPv5.14.2.1//NONSGML v1.0//EN
CALSCALE:GREGORIAN
METHOD:PUBLISH
X-WR-CALNAME:Imagina Alcobendas
X-ORIGINAL-URL:https://www.imaginalcobendas.org
X-WR-CALDESC:Eventos para Imagina Alcobendas
BEGIN:VTIMEZONE
TZID:Europe/Madrid
BEGIN:DAYLIGHT
TZOFFSETFROM:+0100
TZOFFSETTO:+0200
TZNAME:CEST
DTSTART:20170326T010000
END:DAYLIGHT
BEGIN:STANDARD
TZOFFSETFROM:+0200
TZOFFSETTO:+0100
TZNAME:CET
DTSTART:20171029T010000
END:STANDARD
END:VTIMEZONE
BEGIN:VEVENT
DTSTART;TZID=Europe/Madrid:20170920T183000
DTEND;TZID=Europe/Madrid:20170920T203000
DTSTAMP:20260425T134716
CREATED:20170908T115721Z
LAST-MODIFIED:20170918T071348Z
UID:12601-1505932200-1505939400@www.imaginalcobendas.org
SUMMARY:Sesión informativa de voluntariado europeo
DESCRIPTION:Sesión informativa en Imagina donde expondremos programas\, proyectos\, actividades\, becas\, convocatorias\, etc. Si tienes en mente participar en un proyecto de ámbito intercultural en Europa o Alcobendas\, y entre 18 y 30 años\, pásate por Imagina\, en esta sesión podrías encontrar tu oportunidad. Para participar no es necesaria inscripción.
URL:https://www.imaginalcobendas.org/evento/sesion-informativa-de-voluntariado-europeo/
LOCATION:Imagina Alcobendas\, C/Ruperto Chapí\, 18 \, Alcobendas\, Comunidad de Madrid\, 28100\, España
CATEGORIES:Sesiones informativas
ATTACH;FMTTYPE=image/jpeg:https://www.imaginalcobendas.org/wp-content/uploads/2017/04/Europa.jpg
GEO:40.5480636;-3.6442078
X-APPLE-STRUCTURED-LOCATION;VALUE=URI;X-ADDRESS=Imagina Alcobendas C/Ruperto Chapí 18  Alcobendas Comunidad de Madrid 28100 España;X-APPLE-RADIUS=500;X-TITLE=C/Ruperto Chapí\, 18:geo:-3.6442078,40.5480636
END:VEVENT
END:VCALENDAR