BEGIN:VCALENDAR
VERSION:2.0
PRODID:-//Imagina Alcobendas - ECPv5.14.2.1//NONSGML v1.0//EN
CALSCALE:GREGORIAN
METHOD:PUBLISH
X-WR-CALNAME:Imagina Alcobendas
X-ORIGINAL-URL:https://www.imaginalcobendas.org
X-WR-CALDESC:Eventos para Imagina Alcobendas
BEGIN:VTIMEZONE
TZID:Europe/Madrid
BEGIN:DAYLIGHT
TZOFFSETFROM:+0100
TZOFFSETTO:+0200
TZNAME:CEST
DTSTART:20170326T010000
END:DAYLIGHT
BEGIN:STANDARD
TZOFFSETFROM:+0200
TZOFFSETTO:+0100
TZNAME:CET
DTSTART:20171029T010000
END:STANDARD
END:VTIMEZONE
BEGIN:VEVENT
DTSTART;TZID=Europe/Madrid:20171106T190000
DTEND;TZID=Europe/Madrid:20171106T210000
DTSTAMP:20260426T035106
CREATED:20171031T193043Z
LAST-MODIFIED:20171031T195027Z
UID:13142-1509994800-1510002000@www.imaginalcobendas.org
SUMMARY:Semana de la Juventud
DESCRIPTION:Presentación de la Semana de la Juventud en Imagina a las 19h. Entre todos los asistentes se regalarán dos entradas dobles para el concierto de Antonio Orozco\, que se celebrará el jueves 9.\nA las 19:30h en la entrada de Imagina\, Yambo repartirá chocolate caliente para los asistentes
URL:https://www.imaginalcobendas.org/evento/semana-de-la-juventud/
LOCATION:Alcobendas\, Madrid\, España
ATTACH;FMTTYPE=image/jpeg:https://www.imaginalcobendas.org/wp-content/uploads/2017/10/Semana-Juventud.jpg
GEO:40.5372512;-3.6372245
END:VEVENT
END:VCALENDAR