BEGIN:VCALENDAR
VERSION:2.0
PRODID:-//Imagina Alcobendas - ECPv5.14.2.1//NONSGML v1.0//EN
CALSCALE:GREGORIAN
METHOD:PUBLISH
X-WR-CALNAME:Imagina Alcobendas
X-ORIGINAL-URL:https://www.imaginalcobendas.org
X-WR-CALDESC:Eventos para Imagina Alcobendas
BEGIN:VTIMEZONE
TZID:Europe/Madrid
BEGIN:DAYLIGHT
TZOFFSETFROM:+0100
TZOFFSETTO:+0200
TZNAME:CEST
DTSTART:20190331T010000
END:DAYLIGHT
BEGIN:STANDARD
TZOFFSETFROM:+0200
TZOFFSETTO:+0100
TZNAME:CET
DTSTART:20191027T010000
END:STANDARD
END:VTIMEZONE
BEGIN:VEVENT
DTSTART;TZID=Europe/Madrid:20190324T090000
DTEND;TZID=Europe/Madrid:20190324T140000
DTSTAMP:20260424T074441
CREATED:20190122T072022Z
LAST-MODIFIED:20190122T072029Z
UID:18522-1553418000-1553436000@www.imaginalcobendas.org
SUMMARY:Salida detectives en Familia
DESCRIPTION:Salida Aire libre en familia por el Pardo.\nMás información
URL:https://www.imaginalcobendas.org/evento/salida-detectives-en-familia/
LOCATION:Alcobendas\, Madrid\, España
ATTACH;FMTTYPE=image/jpeg:https://www.imaginalcobendas.org/wp-content/uploads/2018/04/pardo.jpg
END:VEVENT
END:VCALENDAR