BEGIN:VCALENDAR
VERSION:2.0
PRODID:-//Imagina Alcobendas - ECPv5.14.2.1//NONSGML v1.0//EN
CALSCALE:GREGORIAN
METHOD:PUBLISH
X-WR-CALNAME:Imagina Alcobendas
X-ORIGINAL-URL:https://www.imaginalcobendas.org
X-WR-CALDESC:Eventos para Imagina Alcobendas
BEGIN:VTIMEZONE
TZID:Europe/Madrid
BEGIN:DAYLIGHT
TZOFFSETFROM:+0100
TZOFFSETTO:+0200
TZNAME:CEST
DTSTART:20220327T010000
END:DAYLIGHT
BEGIN:STANDARD
TZOFFSETFROM:+0200
TZOFFSETTO:+0100
TZNAME:CET
DTSTART:20221030T010000
END:STANDARD
END:VTIMEZONE
BEGIN:VEVENT
DTSTART;TZID=Europe/Madrid:20220216T193000
DTEND;TZID=Europe/Madrid:20220216T203000
DTSTAMP:20260424T195313
CREATED:20220207T123326Z
LAST-MODIFIED:20220207T123541Z
UID:34051-1645039800-1645043400@www.imaginalcobendas.org
SUMMARY:¿Qué es el Voluntariado Europeo?
DESCRIPTION:Acércate el miércoles 16 de febrero a Imagina para participar en la sesión informativa sobre proyectos de voluntariado internacional que el Cuerpo Europeo de Solidaridad ofrece a jóvenes a partir de 18 años.\n¿Dónde enterarte de los proyectos que existen?\n¿Cómo participar?\n¿Qué hacer para que te seleccionen?\nSi quieres ampliar información contacta con la asesoría de Programas Europeos: europa@imagina.aytoalcobendas.org
URL:https://www.imaginalcobendas.org/evento/que-es-el-voluntariado-europeo/
LOCATION:Imagina Alcobendas\, C/Ruperto Chapí\, 18 \, Alcobendas\, Comunidad de Madrid\, 28100\, España
CATEGORIES:Voluntariado
ATTACH;FMTTYPE=image/jpeg:https://www.imaginalcobendas.org/wp-content/uploads/2021/11/voluntarios2122.jpg
GEO:40.5480636;-3.6442078
X-APPLE-STRUCTURED-LOCATION;VALUE=URI;X-ADDRESS=Imagina Alcobendas C/Ruperto Chapí 18  Alcobendas Comunidad de Madrid 28100 España;X-APPLE-RADIUS=500;X-TITLE=C/Ruperto Chapí\, 18:geo:-3.6442078,40.5480636
END:VEVENT
END:VCALENDAR