BEGIN:VCALENDAR
VERSION:2.0
PRODID:-//Imagina Alcobendas - ECPv5.14.2.1//NONSGML v1.0//EN
CALSCALE:GREGORIAN
METHOD:PUBLISH
X-WR-CALNAME:Imagina Alcobendas
X-ORIGINAL-URL:https://www.imaginalcobendas.org
X-WR-CALDESC:Eventos para Imagina Alcobendas
BEGIN:VTIMEZONE
TZID:Europe/Madrid
BEGIN:DAYLIGHT
TZOFFSETFROM:+0100
TZOFFSETTO:+0200
TZNAME:CEST
DTSTART:20170326T010000
END:DAYLIGHT
BEGIN:STANDARD
TZOFFSETFROM:+0200
TZOFFSETTO:+0100
TZNAME:CET
DTSTART:20171029T010000
END:STANDARD
END:VTIMEZONE
BEGIN:VEVENT
DTSTART;TZID=Europe/Madrid:20170930T180000
DTEND;TZID=Europe/Madrid:20170930T200000
DTSTAMP:20260423T092335
CREATED:20170901T115547Z
LAST-MODIFIED:20170901T115547Z
UID:12543-1506794400-1506801600@www.imaginalcobendas.org
SUMMARY:Propón tus actividades
DESCRIPTION:Un día para proponer y crear todo lo que queréis que desarrollemos durante el año\, Aventurarte es un proyecto donde se cuenta con la voz de todos los que componemos el proyectos y en este día es muy importante vuestra participación ya que crearemos lo que realizaremos durante el año. Un espacio donde crear el “Aventurarte” que queremos.
URL:https://www.imaginalcobendas.org/evento/propon-tus-actividades/
LOCATION:Centro de Arte  Alcobendas\, C/ Mariano Sebastián Izuel\, 9\, Alcobendas\, Madrid\, 28100\, España
CATEGORIES:IMAGINA KIDS,Ocio
ATTACH;FMTTYPE=image/jpeg:https://www.imaginalcobendas.org/wp-content/uploads/2017/09/aventurarte-2.jpg
GEO:40.5412343;-3.6304039
X-APPLE-STRUCTURED-LOCATION;VALUE=URI;X-ADDRESS=Centro de Arte  Alcobendas C/ Mariano Sebastián Izuel 9 Alcobendas Madrid 28100 España;X-APPLE-RADIUS=500;X-TITLE=C/ Mariano Sebastián Izuel\, 9:geo:-3.6304039,40.5412343
END:VEVENT
END:VCALENDAR