BEGIN:VCALENDAR
VERSION:2.0
PRODID:-//Imagina Alcobendas - ECPv5.14.2.1//NONSGML v1.0//EN
CALSCALE:GREGORIAN
METHOD:PUBLISH
X-WR-CALNAME:Imagina Alcobendas
X-ORIGINAL-URL:https://www.imaginalcobendas.org
X-WR-CALDESC:Eventos para Imagina Alcobendas
BEGIN:VTIMEZONE
TZID:Europe/Madrid
BEGIN:DAYLIGHT
TZOFFSETFROM:+0100
TZOFFSETTO:+0200
TZNAME:CEST
DTSTART:20260329T010000
END:DAYLIGHT
BEGIN:STANDARD
TZOFFSETFROM:+0200
TZOFFSETTO:+0100
TZNAME:CET
DTSTART:20261025T010000
END:STANDARD
END:VTIMEZONE
BEGIN:VEVENT
DTSTART;TZID=Europe/Madrid:20260427T080000
DTEND;TZID=Europe/Madrid:20260427T233000
DTSTAMP:20260425T134322
CREATED:20260424T111009Z
LAST-MODIFIED:20260424T111905Z
UID:47823-1777276800-1777332600@www.imaginalcobendas.org
SUMMARY:Apúntate para preparar la PAU en IMAGINA
DESCRIPTION:¿Te presentas a la PAU este año? te lo ponemos fácil\, vente a estudiar a Imagina\n📆 los fines de semana (sábados y domingos) del 10 al 31 de mayo \n⏰ de 9 a 24 h. \n🎓 con el apoyo de profesorado especializado para resolver tus dudas y reforzar contenidos clave \nMás información
URL:https://www.imaginalcobendas.org/evento/prepara-la-pau-en-imagina-2/
LOCATION:Alcobendas\, Madrid\, España
ATTACH;FMTTYPE=image/png:https://www.imaginalcobendas.org/wp-content/uploads/2026/04/aula-de-estudio-mayo-26-800-x-600-px.png
GEO:40.4167754;-3.7037902
END:VEVENT
END:VCALENDAR