BEGIN:VCALENDAR
VERSION:2.0
PRODID:-//Imagina Alcobendas - ECPv5.14.2.1//NONSGML v1.0//EN
CALSCALE:GREGORIAN
METHOD:PUBLISH
X-WR-CALNAME:Imagina Alcobendas
X-ORIGINAL-URL:https://www.imaginalcobendas.org
X-WR-CALDESC:Eventos para Imagina Alcobendas
BEGIN:VTIMEZONE
TZID:Europe/Madrid
BEGIN:DAYLIGHT
TZOFFSETFROM:+0100
TZOFFSETTO:+0200
TZNAME:CEST
DTSTART:20160327T010000
END:DAYLIGHT
BEGIN:STANDARD
TZOFFSETFROM:+0200
TZOFFSETTO:+0100
TZNAME:CET
DTSTART:20161030T010000
END:STANDARD
END:VTIMEZONE
BEGIN:VEVENT
DTSTART;TZID=Europe/Madrid:20160123T180000
DTEND;TZID=Europe/Madrid:20160123T200000
DTSTAMP:20260424T212201
CREATED:20160111T153248Z
LAST-MODIFIED:20160119T164015Z
UID:3964-1453572000-1453579200@www.imaginalcobendas.org
SUMMARY:¿Nos escuchamos?
DESCRIPTION:De 10 a 14 años \n¡Es hora de escucharnos! haremos dinámicas relacionadas con la escucha activa y la cooperación grupal.\nTe prometemos pasar una tarde animada y hacer amigos.\nTráete tus mejores disfraces también y empezaremos a planear el carnaval.\n \nAdemás\, como siempre\, todos los sábados tienes juegos de mesa y videojuegos a tu disposición. Existen 40 plazas que se cubrirán por riguroso orden de entrada. La actividad es gratuita\, y se desarrolla en el Centro de Arte de Alcobendas. Puedes ampliar la información en Imagina 91 659 09 57 \nPeriodo: octubre a mayo\, según calendario escolar.\nEste programa está dirigido  por un equipo de monitores dispuestos a convertir la tarde de los sábados en un momento atractivo y alternativo para los más jóvenes.\nNo dudes en venir\, solo o con tus amigos\, al Centro de Arte Alcobendas\, C/ Mariano Sebastián Izuel\, 9
URL:https://www.imaginalcobendas.org/evento/nos-escuchamos/
LOCATION:Centro de Arte  Alcobendas\, C/ Mariano Sebastián Izuel\, 9\, Alcobendas\, Madrid\, 28100\, España
CATEGORIES:Ocio
ATTACH;FMTTYPE=image/jpeg:https://www.imaginalcobendas.org/wp-content/uploads/2013/01/adolescentes-2.jpg
GEO:40.5412343;-3.6304039
X-APPLE-STRUCTURED-LOCATION;VALUE=URI;X-ADDRESS=Centro de Arte  Alcobendas C/ Mariano Sebastián Izuel 9 Alcobendas Madrid 28100 España;X-APPLE-RADIUS=500;X-TITLE=C/ Mariano Sebastián Izuel\, 9:geo:-3.6304039,40.5412343
END:VEVENT
END:VCALENDAR