BEGIN:VCALENDAR
VERSION:2.0
PRODID:-//Imagina Alcobendas - ECPv5.14.2.1//NONSGML v1.0//EN
CALSCALE:GREGORIAN
METHOD:PUBLISH
X-WR-CALNAME:Imagina Alcobendas
X-ORIGINAL-URL:https://www.imaginalcobendas.org
X-WR-CALDESC:Eventos para Imagina Alcobendas
BEGIN:VTIMEZONE
TZID:Europe/Madrid
BEGIN:DAYLIGHT
TZOFFSETFROM:+0100
TZOFFSETTO:+0200
TZNAME:CEST
DTSTART:20230326T010000
END:DAYLIGHT
BEGIN:STANDARD
TZOFFSETFROM:+0200
TZOFFSETTO:+0100
TZNAME:CET
DTSTART:20231029T010000
END:STANDARD
END:VTIMEZONE
BEGIN:VEVENT
DTSTART;TZID=Europe/Madrid:20230522T190000
DTEND;TZID=Europe/Madrid:20230522T203000
DTSTAMP:20260423T143341
CREATED:20230427T144637Z
LAST-MODIFIED:20230427T144637Z
UID:38694-1684782000-1684787400@www.imaginalcobendas.org
SUMMARY:Mes de Europa. Karaoke
DESCRIPTION:Continuamos celebrando el Mes de Europa\, con una tarde de Karaoke y Picoteo en el Centro Joven Imagina.\n \nActividad para jóvenes de 16-35 años.\n \nEntrada libre hasta completar aforo
URL:https://www.imaginalcobendas.org/evento/mes-de-europa-karaoke/
LOCATION:Alcobendas\, Madrid\, España
CATEGORIES:Ocio,Sesiones informativas
ATTACH;FMTTYPE=image/png:https://www.imaginalcobendas.org/wp-content/uploads/2023/04/Concurso-Europeo.png
GEO:40.4167754;-3.7037902
END:VEVENT
END:VCALENDAR