BEGIN:VCALENDAR
VERSION:2.0
PRODID:-//Imagina Alcobendas - ECPv5.14.2.1//NONSGML v1.0//EN
CALSCALE:GREGORIAN
METHOD:PUBLISH
X-WR-CALNAME:Imagina Alcobendas
X-ORIGINAL-URL:https://www.imaginalcobendas.org
X-WR-CALDESC:Eventos para Imagina Alcobendas
BEGIN:VTIMEZONE
TZID:Europe/Madrid
BEGIN:DAYLIGHT
TZOFFSETFROM:+0100
TZOFFSETTO:+0200
TZNAME:CEST
DTSTART:20160327T010000
END:DAYLIGHT
BEGIN:STANDARD
TZOFFSETFROM:+0200
TZOFFSETTO:+0100
TZNAME:CET
DTSTART:20161030T010000
END:STANDARD
END:VTIMEZONE
BEGIN:VEVENT
DTSTART;TZID=Europe/Madrid:20161022T173000
DTEND;TZID=Europe/Madrid:20161022T193000
DTSTAMP:20260423T180421
CREATED:20161019T165652Z
LAST-MODIFIED:20161019T165733Z
UID:8439-1477157400-1477164600@www.imaginalcobendas.org
SUMMARY:La música y los instrumentos
DESCRIPTION:Para niños de 3 a 9 años.\nUna tarde de ritmo\, melodías y muchos juegos esperan a los niños y niñas del Juguetón. Desde crear instrumentos hasta jugar a ser una orquesta o hacer un recorrido por el mundo de los ritmos\, son propuestas que acercarán a los participantes al universo de la música.\nLa actividad se realiza en el Centro de Arte Alcobendas. El horario de actividad es de 17:30 h a 19:30 h. Inscripciones a través de carnet gratuito desde las 17 h. Para una mejor atención a los menores\, el acceso de participantes a la actividad será hasta las 18 h.\nPor motivos de seguridad y protección de los menores\, los padres o tutores han de identificarse con su DNI o equivalente tanto en la recogida de entradas como en la entrega  y recepción de los menores. Los niños de  3 años participarán en compañía de un adulto.
URL:https://www.imaginalcobendas.org/evento/la-musica-y-los-instrumentos/
LOCATION:Centro de Arte  Alcobendas\, C/ Mariano Sebastián Izuel\, 9\, Alcobendas\, Madrid\, 28100\, España
CATEGORIES:Infancia
ATTACH;FMTTYPE=image/jpeg:https://www.imaginalcobendas.org/wp-content/uploads/2016/10/jugueton.jpg
GEO:40.5412343;-3.6304039
X-APPLE-STRUCTURED-LOCATION;VALUE=URI;X-ADDRESS=Centro de Arte  Alcobendas C/ Mariano Sebastián Izuel 9 Alcobendas Madrid 28100 España;X-APPLE-RADIUS=500;X-TITLE=C/ Mariano Sebastián Izuel\, 9:geo:-3.6304039,40.5412343
END:VEVENT
END:VCALENDAR