BEGIN:VCALENDAR
VERSION:2.0
PRODID:-//Imagina Alcobendas - ECPv5.14.2.1//NONSGML v1.0//EN
CALSCALE:GREGORIAN
METHOD:PUBLISH
X-WR-CALNAME:Imagina Alcobendas
X-ORIGINAL-URL:https://www.imaginalcobendas.org
X-WR-CALDESC:Eventos para Imagina Alcobendas
BEGIN:VTIMEZONE
TZID:Europe/Madrid
BEGIN:DAYLIGHT
TZOFFSETFROM:+0100
TZOFFSETTO:+0200
TZNAME:CEST
DTSTART:20180325T010000
END:DAYLIGHT
BEGIN:STANDARD
TZOFFSETFROM:+0200
TZOFFSETTO:+0100
TZNAME:CET
DTSTART:20181028T010000
END:STANDARD
END:VTIMEZONE
BEGIN:VEVENT
DTSTART;VALUE=DATE:20181019
DTEND;VALUE=DATE:20181020
DTSTAMP:20260425T162742
CREATED:20181010T130255Z
LAST-MODIFIED:20181010T130604Z
UID:16971-1539907200-1539993599@www.imaginalcobendas.org
SUMMARY:Preinscripción Premonitores
DESCRIPTION:¿Tienes entre 14 y 16 años y quieres iniciarte en el mundo del Tiempo Libre y la Animación?\n¿Quieres conocer a chicos y chicas de tu edad y aprender en grupo de forma divertida?\nEste curso propone una iniciación práctica para adquirir las destrezas necesarias en la organización de actividades de tiempo libre y pretende suscitar interés para la realización posterior del curso de Monitores/as de Tiempo Libre.\nInscríbete aquí
URL:https://www.imaginalcobendas.org/evento/inscripcion-premonitores/
LOCATION:Alcobendas\, Madrid\, España
ATTACH;FMTTYPE=image/jpeg:https://www.imaginalcobendas.org/wp-content/uploads/2016/01/Premonitores.jpg
END:VEVENT
END:VCALENDAR