BEGIN:VCALENDAR
VERSION:2.0
PRODID:-//Imagina Alcobendas - ECPv5.14.2.1//NONSGML v1.0//EN
CALSCALE:GREGORIAN
METHOD:PUBLISH
X-WR-CALNAME:Imagina Alcobendas
X-ORIGINAL-URL:https://www.imaginalcobendas.org
X-WR-CALDESC:Eventos para Imagina Alcobendas
BEGIN:VTIMEZONE
TZID:Europe/Madrid
BEGIN:DAYLIGHT
TZOFFSETFROM:+0100
TZOFFSETTO:+0200
TZNAME:CEST
DTSTART:20250330T010000
END:DAYLIGHT
BEGIN:STANDARD
TZOFFSETFROM:+0200
TZOFFSETTO:+0100
TZNAME:CET
DTSTART:20251026T010000
END:STANDARD
END:VTIMEZONE
BEGIN:VEVENT
DTSTART;TZID=Europe/Madrid:20251031T200000
DTEND;TZID=Europe/Madrid:20251031T235900
DTSTAMP:20260424T130014
CREATED:20251016T112819Z
LAST-MODIFIED:20251027T120156Z
UID:45869-1761940800-1761955140@www.imaginalcobendas.org
SUMMARY:IMAGINA Sound Fest Halloween
DESCRIPTION:Fiesta Halloween Joven 👻Si tienes entre 14 y 30 años\, prepárate para una noche de música\, diversión y sorpresas con los DJs Danfer\, Zamarra y más artistas invitados.\n🕗 Horario: 20 a 24h.🍔 Bar sin alcohol\, con refrescos🧥 Ropero gratuito🎶 La mejor música\, la mejor compañía y un ambiente de miedo\nLa entrada es gratuita\, pero requiere inscripción previa hasta completar aforo\, en el QR de la imagen o pinchando en este ENLACE\nLa entrada es para IMAGINA SOUND FEST Halloween. Al pasaje del terror se accederá por la parte de abajo\, en grupos y hasta completar aforo.\n¡Síguenos en redes para más novedades! 💀
URL:https://www.imaginalcobendas.org/evento/imagina-sound-halloween/
LOCATION:Centro Municipal La Esfera\, Avenida Olímpica\, 14\, Alcobendas\, Madrid\, 28100\, España
CATEGORIES:Ocio
ATTACH;FMTTYPE=image/png:https://www.imaginalcobendas.org/wp-content/uploads/2025/10/Imagina-Sound-halloween-web.png
GEO:40.5371326;-3.6325421
X-APPLE-STRUCTURED-LOCATION;VALUE=URI;X-ADDRESS=Centro Municipal La Esfera Avenida Olímpica 14 Alcobendas Madrid 28100 España;X-APPLE-RADIUS=500;X-TITLE=Avenida Olímpica\, 14:geo:-3.6325421,40.5371326
END:VEVENT
END:VCALENDAR