BEGIN:VCALENDAR
VERSION:2.0
PRODID:-//Imagina Alcobendas - ECPv5.14.2.1//NONSGML v1.0//EN
CALSCALE:GREGORIAN
METHOD:PUBLISH
X-WR-CALNAME:Imagina Alcobendas
X-ORIGINAL-URL:https://www.imaginalcobendas.org
X-WR-CALDESC:Eventos para Imagina Alcobendas
BEGIN:VTIMEZONE
TZID:Europe/Madrid
BEGIN:DAYLIGHT
TZOFFSETFROM:+0100
TZOFFSETTO:+0200
TZNAME:CEST
DTSTART:20160327T010000
END:DAYLIGHT
BEGIN:STANDARD
TZOFFSETFROM:+0200
TZOFFSETTO:+0100
TZNAME:CET
DTSTART:20161030T010000
END:STANDARD
END:VTIMEZONE
BEGIN:VEVENT
DTSTART;TZID=Europe/Madrid:20161202T170000
DTEND;TZID=Europe/Madrid:20161202T210000
DTSTAMP:20260423T162057
CREATED:20161117T140205Z
LAST-MODIFIED:20161117T140254Z
UID:8801-1480698000-1480712400@www.imaginalcobendas.org
SUMMARY:Imagina con chupete
DESCRIPTION:Dirigido a bebés de 12 a 36 meses. Para familias con bebés de 12 a 36 meses. Juegos\, desafíos y mucha creatividad. El objetivo\, ofrecer a las familias recursos lúdicos para favorecer el bienestar y desarrollo de los niños. Tendrá lugar en la Ciudad Deportiva Valdelasfuentes\, en la sala 7 y se realiza en dos turnos: bebés de 12 a 23 meses a las 17 h. y 24 a 36 meses a las 18:30 h. Los bebés tienen que acudir acompañados en todo momento por un adulto. Es necesario llevar calzado y ropa cómoda.\nLas inscripciones gratuitas se pueden realizar a través de los teléfonos 010 (si llamas desde Alcobendas) o en el teléfono 91 484 31 99\, así como de forma presencial en cualquiera de las oficinas del SAC (Servicio de Atención Ciudadana) ubicadas en el Ayuntamiento y en los centros cívicos de los Distritos Centro\, Espacio Miguel Delibes y Urbanizaciones. Los empadronados podrán inscribirse a partir del 21 de noviembre y desde el 24 de noviembre las no empadronadas.
URL:https://www.imaginalcobendas.org/evento/imagina-con-chupete/
LOCATION:Ciudad Deportiva Valdelasfuentes\, Av. Don Miguel Cervantes\, s/n\, \, Alcobendas\, Madrid\, 28100\, España
CATEGORIES:Infancia,Ocio
ATTACH;FMTTYPE=image/jpeg:https://www.imaginalcobendas.org/wp-content/uploads/2016/11/bebes.jpg
END:VEVENT
END:VCALENDAR