BEGIN:VCALENDAR
VERSION:2.0
PRODID:-//Imagina Alcobendas - ECPv5.14.2.1//NONSGML v1.0//EN
CALSCALE:GREGORIAN
METHOD:PUBLISH
X-WR-CALNAME:Imagina Alcobendas
X-ORIGINAL-URL:https://www.imaginalcobendas.org
X-WR-CALDESC:Eventos para Imagina Alcobendas
BEGIN:VTIMEZONE
TZID:Europe/Madrid
BEGIN:DAYLIGHT
TZOFFSETFROM:+0100
TZOFFSETTO:+0200
TZNAME:CEST
DTSTART:20250330T010000
END:DAYLIGHT
BEGIN:STANDARD
TZOFFSETFROM:+0200
TZOFFSETTO:+0100
TZNAME:CET
DTSTART:20251026T010000
END:STANDARD
END:VTIMEZONE
BEGIN:VEVENT
DTSTART;TZID=Europe/Madrid:20251031T170000
DTEND;TZID=Europe/Madrid:20251031T200000
DTSTAMP:20260424T140312
CREATED:20251003T121457Z
LAST-MODIFIED:20251021T142703Z
UID:45766-1761930000-1761940800@www.imaginalcobendas.org
SUMMARY:Halloween para bebés
DESCRIPTION:Cuentacuentos infantil: Alicia quiere ser bruja. Dirigido a participantes de 12 a 48 meses.\n\nAlicia es una aprendiz de bruja que está muy nerviosa porque está preparándose para su examen final de Halloween. A lo largo del cuentacuentos\, Alicia pide ayuda a los más peques y sus familias para crear pócimas\, hacer aparecer calabazas\, murciélagos voladores\, tormentas de burbujas y hasta despertar a una momia. Con cada conjuro los niños se sumergen en un mundo de fantasía lleno de colores\, música y mucha diversión.\n\n\nHabrá tres pases según la edad:\n\nde 12 a 24 meses a las 17 h.\nde 25 a 36 meses a las 18 h.\nde 37 a 48 meses a las 19 h.\n\nLugar: Escuela de Música\n\nPlazas: 25 bebés acompañados de un/a adulto por pase.\n Inscripciones: del 20 al 27 de octubre de manera telefónica en el SAC (91 2969088) o telemática (con Cl@ve\, DNI electrónico o Certificado Digital) a través de Usuari@s de la web del Ayuntamiento de Alcobendas (Cultura en Familia –> Talleres y visitas guiadas –> Talleres Halloween Imagina).\nSi no se dispone de identificación digital\, se puede obtener Cl@ve en las Oficinas del Servicio de Atención Ciudadana sin necesidad de cita previa.
URL:https://www.imaginalcobendas.org/evento/halloween-para-bebes/
LOCATION:Escuela Municipal de Música y Danza\, C. de Ruperto Chapí\, 22.\, Alcobendas\, Madrid\, 28100
CATEGORIES:Infancia
ATTACH;FMTTYPE=image/png:https://www.imaginalcobendas.org/wp-content/uploads/2025/10/Halloween-baby-web.png
END:VEVENT
END:VCALENDAR