BEGIN:VCALENDAR
VERSION:2.0
PRODID:-//Imagina Alcobendas - ECPv5.14.2.1//NONSGML v1.0//EN
CALSCALE:GREGORIAN
METHOD:PUBLISH
X-WR-CALNAME:Imagina Alcobendas
X-ORIGINAL-URL:https://www.imaginalcobendas.org
X-WR-CALDESC:Eventos para Imagina Alcobendas
BEGIN:VTIMEZONE
TZID:Europe/Madrid
BEGIN:DAYLIGHT
TZOFFSETFROM:+0100
TZOFFSETTO:+0200
TZNAME:CEST
DTSTART:20230326T010000
END:DAYLIGHT
BEGIN:STANDARD
TZOFFSETFROM:+0200
TZOFFSETTO:+0100
TZNAME:CET
DTSTART:20231029T010000
END:STANDARD
END:VTIMEZONE
BEGIN:VEVENT
DTSTART;TZID=Europe/Madrid:20230301T190000
DTEND;TZID=Europe/Madrid:20230301T200000
DTSTAMP:20260424T114237
CREATED:20230207T101825Z
LAST-MODIFIED:20230207T134417Z
UID:37866-1677697200-1677700800@www.imaginalcobendas.org
SUMMARY:Festival Zero Discriminación
DESCRIPTION:Celebra con nosotros en El Centro de Arte el Festival Zero Discriminación en Alcobendas. Celebra con música que la juventud es Anti- Discriminación y que acepta la diversidad.\nSi participaste enviándonos tus frases Zero Discriminación reflejando la convivencia de la diversidad cultural en la vida cotidiana de la ciudad donde manifiestas que la discriminación pone en peligro la vida de las personas seguramente las verás proyectadas en en el Festival.\n+ Información
URL:https://www.imaginalcobendas.org/evento/festival-zero-discriminacion/
LOCATION:Centro de Arte  Alcobendas\, C/ Mariano Sebastián Izuel\, 9\, Alcobendas\, Madrid\, 28100\, España
CATEGORIES:Ocio
ATTACH;FMTTYPE=image/png:https://www.imaginalcobendas.org/wp-content/uploads/2023/02/DISCRIMINACION-ZERO.png
GEO:40.5412343;-3.6304039
X-APPLE-STRUCTURED-LOCATION;VALUE=URI;X-ADDRESS=Centro de Arte  Alcobendas C/ Mariano Sebastián Izuel 9 Alcobendas Madrid 28100 España;X-APPLE-RADIUS=500;X-TITLE=C/ Mariano Sebastián Izuel\, 9:geo:-3.6304039,40.5412343
END:VEVENT
END:VCALENDAR