BEGIN:VCALENDAR
VERSION:2.0
PRODID:-//Imagina Alcobendas - ECPv5.14.2.1//NONSGML v1.0//EN
CALSCALE:GREGORIAN
METHOD:PUBLISH
X-WR-CALNAME:Imagina Alcobendas
X-ORIGINAL-URL:https://www.imaginalcobendas.org
X-WR-CALDESC:Eventos para Imagina Alcobendas
BEGIN:VTIMEZONE
TZID:Europe/Madrid
BEGIN:DAYLIGHT
TZOFFSETFROM:+0100
TZOFFSETTO:+0200
TZNAME:CEST
DTSTART:20210328T010000
END:DAYLIGHT
BEGIN:STANDARD
TZOFFSETFROM:+0200
TZOFFSETTO:+0100
TZNAME:CET
DTSTART:20211031T010000
END:STANDARD
END:VTIMEZONE
BEGIN:VEVENT
DTSTART;TZID=Europe/Madrid:20211002T173000
DTEND;TZID=Europe/Madrid:20211002T193000
DTSTAMP:20260424T130122
CREATED:20210928T110936Z
LAST-MODIFIED:20210928T110936Z
UID:32540-1633195800-1633203000@www.imaginalcobendas.org
SUMMARY:Festival de la participación
DESCRIPTION:Consulta de opinión juvenil “Deja tu Huella”\nSi tienes entre 14 y 17 años\, acércate al Parque Cataluña y celebra con nosotros el Festival de la participación. Cuéntanos cómo quieres que sea el programa de ocio en Alcobendas.
URL:https://www.imaginalcobendas.org/evento/festival-de-la-participacion/
LOCATION:Parque de la Comunidad de Madrid\, Calle Miraflores 16\, Alcobendas\, Madrid\, 28100\, España
CATEGORIES:Información
ATTACH;FMTTYPE=image/png:https://www.imaginalcobendas.org/wp-content/uploads/2021/09/participacion.png
END:VEVENT
END:VCALENDAR