BEGIN:VCALENDAR
VERSION:2.0
PRODID:-//Imagina Alcobendas - ECPv5.14.2.1//NONSGML v1.0//EN
CALSCALE:GREGORIAN
METHOD:PUBLISH
X-WR-CALNAME:Imagina Alcobendas
X-ORIGINAL-URL:https://www.imaginalcobendas.org
X-WR-CALDESC:Eventos para Imagina Alcobendas
BEGIN:VTIMEZONE
TZID:Europe/Madrid
BEGIN:DAYLIGHT
TZOFFSETFROM:+0100
TZOFFSETTO:+0200
TZNAME:CEST
DTSTART:20170326T010000
END:DAYLIGHT
BEGIN:STANDARD
TZOFFSETFROM:+0200
TZOFFSETTO:+0100
TZNAME:CET
DTSTART:20171029T010000
END:STANDARD
END:VTIMEZONE
BEGIN:VEVENT
DTSTART;TZID=Europe/Madrid:20170930T200000
DTEND;TZID=Europe/Madrid:20170930T220000
DTSTAMP:20260423T073722
CREATED:20170914T083442Z
LAST-MODIFIED:20170928T184152Z
UID:12641-1506801600-1506808800@www.imaginalcobendas.org
SUMMARY:Festival de Circo: Möbius
DESCRIPTION:Con motivo del inicio del nuevo curso 2017 – 2018\, la asociación de artes circenses Scimmie Volanti prepara la segunda edición de su festival de circo y artes de calle.\nDurante tres días\, en las plazas de Alcobendas\, podremos disfrutar de siete compañías diferentes\, además de dos espectáculos de sala.\nEl objetivo del festival es acercar\, a toda la población de Alcobendas y alrededores\, el circo actual\, un circo fuera de la carpa tradicional que puede ser disfrutado tanto en la calle como en los teatros\, por mayores y pequeños.\nUno de los espectáculos de sala es este festival de circo es Möbius que se realizará en el Centro de Arte Alcobendas a partir de las 20 h. De la compañía francesa Rubén Gigosos.\nCon una linda simplicidad estética\, somos acompañados por las aventuras internas del personaje. Descubriremos como una escena prácticamente desnuda puede convertirse en un cuadrilátero patas arriba. Con decenas de pelotas de un rosa intenso\, un ser humano se retuerce en todos los sentidos (de la palabra) e instala nuevos códigos a su disciplina. Una manera de crear un lenguaje.\nNudos corporales\, contorsiones y sorpresas. Comportamiento inesperado\, malabar inesperado. Nos conduce a través de su laberinto imaginario. Aquí tenemos la historia de una forma de vivir la vida. Que juega en la frontera entre la locura y el perfeccionismo. Que pasa del entusiasmo a la rabia y de la impotencia a la alegría. Aquí tenemos el testimonio de una manera de abordar las cosas cuando no suceden como estaba previsto. Aquí tenemos dinamita de mecha corta en acción. En cualquier momento algo puede ocurrir. ¡Parece que todo es posible!\nPrecio: 2 € jóvenes empadronados de 16 a 30 años\, 7 € resto ( 5 € venta anticipada)\nLas entradas se podrán adquirir en circosv@gmail.com.
URL:https://www.imaginalcobendas.org/evento/festival-de-circo/
LOCATION:Centro de Arte  Alcobendas\, C/ Mariano Sebastián Izuel\, 9\, Alcobendas\, Madrid\, 28100\, España
CATEGORIES:Imagina Joven,Ocio
ATTACH;FMTTYPE=image/png:https://www.imaginalcobendas.org/wp-content/uploads/2017/09/Möbius.png
GEO:40.5412343;-3.6304039
X-APPLE-STRUCTURED-LOCATION;VALUE=URI;X-ADDRESS=Centro de Arte  Alcobendas C/ Mariano Sebastián Izuel 9 Alcobendas Madrid 28100 España;X-APPLE-RADIUS=500;X-TITLE=C/ Mariano Sebastián Izuel\, 9:geo:-3.6304039,40.5412343
END:VEVENT
END:VCALENDAR