BEGIN:VCALENDAR
VERSION:2.0
PRODID:-//Imagina Alcobendas - ECPv5.14.2.1//NONSGML v1.0//EN
CALSCALE:GREGORIAN
METHOD:PUBLISH
X-WR-CALNAME:Imagina Alcobendas
X-ORIGINAL-URL:https://www.imaginalcobendas.org
X-WR-CALDESC:Eventos para Imagina Alcobendas
BEGIN:VTIMEZONE
TZID:Europe/Madrid
BEGIN:DAYLIGHT
TZOFFSETFROM:+0100
TZOFFSETTO:+0200
TZNAME:CEST
DTSTART:20160327T010000
END:DAYLIGHT
BEGIN:STANDARD
TZOFFSETFROM:+0200
TZOFFSETTO:+0100
TZNAME:CET
DTSTART:20161030T010000
END:STANDARD
END:VTIMEZONE
BEGIN:VEVENT
DTSTART;TZID=Europe/Madrid:20160923T180000
DTEND;TZID=Europe/Madrid:20160925T200000
DTSTAMP:20260422T063920
CREATED:20160914T121908Z
LAST-MODIFIED:20161028T093316Z
UID:8074-1474653600-1474833600@www.imaginalcobendas.org
SUMMARY:Festival de Circo de calle
DESCRIPTION:La asociación Scimmie Volanti te invita a disfrutar  los días 23\, 24 y 25 de septiembre en el Festival de Circo.\nViernes 23 en la Plaza del Pueblo\n\nTaller de malabares a las 18h.\nBert y yo a las 19 h.\n\nSábado 24 en la Plaza del Pueblo\n\nTaller de malabares a las 18h.\nTriodedos a las 19 h.\n\nDomingo 25 en Plaza Mayor\n\nTaller de malabares a las 18h.\nTodo Quadra a las 19 h.
URL:https://www.imaginalcobendas.org/evento/festival-de-circo-de-calle/
LOCATION:Plaza Mayor Alcobendas\, Plaza Mayor Alcobendas\, Alcobendas\, Madrid\, España
CATEGORIES:Infancia,Ocio
ATTACH;FMTTYPE=image/jpeg:https://www.imaginalcobendas.org/wp-content/uploads/2016/09/Cartel-SimioCirk.jpg
GEO:40.5474849;-3.6415617
X-APPLE-STRUCTURED-LOCATION;VALUE=URI;X-ADDRESS=Plaza Mayor Alcobendas Plaza Mayor Alcobendas Alcobendas Madrid España;X-APPLE-RADIUS=500;X-TITLE=Plaza Mayor Alcobendas:geo:-3.6415617,40.5474849
END:VEVENT
END:VCALENDAR