BEGIN:VCALENDAR
VERSION:2.0
PRODID:-//Imagina Alcobendas - ECPv5.14.2.1//NONSGML v1.0//EN
CALSCALE:GREGORIAN
METHOD:PUBLISH
X-WR-CALNAME:Imagina Alcobendas
X-ORIGINAL-URL:https://www.imaginalcobendas.org
X-WR-CALDESC:Eventos para Imagina Alcobendas
BEGIN:VTIMEZONE
TZID:Europe/Madrid
BEGIN:DAYLIGHT
TZOFFSETFROM:+0100
TZOFFSETTO:+0200
TZNAME:CEST
DTSTART:20230326T010000
END:DAYLIGHT
BEGIN:STANDARD
TZOFFSETFROM:+0200
TZOFFSETTO:+0100
TZNAME:CET
DTSTART:20231029T010000
END:STANDARD
END:VTIMEZONE
BEGIN:VEVENT
DTSTART;TZID=Europe/Madrid:20230714T103000
DTEND;TZID=Europe/Madrid:20230715T170000
DTSTAMP:20260424T173317
CREATED:20230622T104325Z
LAST-MODIFIED:20230622T104325Z
UID:39183-1689330600-1689440400@www.imaginalcobendas.org
SUMMARY:Escape Room Escuela de Magia
DESCRIPTION:¿Alguna vez has soñado con asistir a la mejor escuela de magia del mundo\, aprender en las distintas clases y vivir todo tipo de aventuras durante el curso? Si tu respuesta es sí\, no te pierdas esta oportunidad única. Gracias al Ministerio de Magia y a la Asociación Clandestino\, Hogwarts abre sus puertas a unos pocos elegidos que tendrán que superar innumerables retos y pruebas para demostrar que son dignos representantes de sus casas y\, ¿quién sabe? Quizá deban salvar al mundo mágico de un peligro acechante que se esconde en la oscuridad…\n¡No te pierdas la escape room temática de Harry Potter más innovadora e inmersiva! Pero recuerda\, si estás leyendo este mensaje\, es porque podrías ser uno de los elegidos. ¡Mantenlo en secreto para que ningún muggle se entere y forma tu equipo para pasar una tarde inolvidablemente mágica!\nHorario:\n⌚ Horario de los pases:\nViernes 14 de julio de 19:00 a 20:30\nSábado 15 de julio – pases tanto por la mañana como por la tarde!\n📍  Centro de Arte (C. de Mariano Sebastián Izuel\, 9\, 28100 Alcobendas\, Madrid)\n⚠️14 – 30 años\n💰 7€ por persona y máximo de 6 personas por pase.\n\nInscripciones: https://forms.gle/4aBmDeXcyhfVAYfa6
URL:https://www.imaginalcobendas.org/evento/escape-room-escuela-de-magia/
LOCATION:Centro de Arte  Alcobendas\, C/ Mariano Sebastián Izuel\, 9\, Alcobendas\, Madrid\, 28100\, España
CATEGORIES:Ocio,Voluntariado
ATTACH;FMTTYPE=image/png:https://www.imaginalcobendas.org/wp-content/uploads/2023/06/clandestino-escape-room.png
GEO:40.5412343;-3.6304039
X-APPLE-STRUCTURED-LOCATION;VALUE=URI;X-ADDRESS=Centro de Arte  Alcobendas C/ Mariano Sebastián Izuel 9 Alcobendas Madrid 28100 España;X-APPLE-RADIUS=500;X-TITLE=C/ Mariano Sebastián Izuel\, 9:geo:-3.6304039,40.5412343
END:VEVENT
END:VCALENDAR