BEGIN:VCALENDAR
VERSION:2.0
PRODID:-//Imagina Alcobendas - ECPv5.14.2.1//NONSGML v1.0//EN
CALSCALE:GREGORIAN
METHOD:PUBLISH
X-WR-CALNAME:Imagina Alcobendas
X-ORIGINAL-URL:https://www.imaginalcobendas.org
X-WR-CALDESC:Eventos para Imagina Alcobendas
BEGIN:VTIMEZONE
TZID:Europe/Madrid
BEGIN:DAYLIGHT
TZOFFSETFROM:+0100
TZOFFSETTO:+0200
TZNAME:CEST
DTSTART:20210328T010000
END:DAYLIGHT
BEGIN:STANDARD
TZOFFSETFROM:+0200
TZOFFSETTO:+0100
TZNAME:CET
DTSTART:20211031T010000
END:STANDARD
END:VTIMEZONE
BEGIN:VEVENT
DTSTART;TZID=Europe/Madrid:20210427T190000
DTEND;TZID=Europe/Madrid:20210427T200000
DTSTAMP:20260425T042446
CREATED:20210422T065631Z
LAST-MODIFIED:20210422T065631Z
UID:30059-1619550000-1619553600@www.imaginalcobendas.org
SUMMARY:Entrevista IG Asesoría Jurídica
DESCRIPTION:Conéctate a la entrevista que realiza Javier a la Asesoría Jurídica de Imagina.\nSi quieres conocer estos recursos de primera mano a través de los ojos de los jóvenes de la ciudad no te pierdas esta cita en la cuenta de Instagram de Imagina @imagina_alcobendas podrás plantear las preguntas y dudas que te surjan.
URL:https://www.imaginalcobendas.org/evento/entrevista-ig-asesoria-juridica/
LOCATION:Alcobendas\, Madrid\, España
CATEGORIES:Información
ATTACH;FMTTYPE=image/jpeg:https://www.imaginalcobendas.org/wp-content/uploads/2021/04/juridica.jpg
END:VEVENT
END:VCALENDAR