BEGIN:VCALENDAR
VERSION:2.0
PRODID:-//Imagina Alcobendas - ECPv5.14.2.1//NONSGML v1.0//EN
CALSCALE:GREGORIAN
METHOD:PUBLISH
X-WR-CALNAME:Imagina Alcobendas
X-ORIGINAL-URL:https://www.imaginalcobendas.org
X-WR-CALDESC:Eventos para Imagina Alcobendas
BEGIN:VTIMEZONE
TZID:Europe/Madrid
BEGIN:DAYLIGHT
TZOFFSETFROM:+0100
TZOFFSETTO:+0200
TZNAME:CEST
DTSTART:20200329T010000
END:DAYLIGHT
BEGIN:STANDARD
TZOFFSETFROM:+0200
TZOFFSETTO:+0100
TZNAME:CET
DTSTART:20201025T010000
END:STANDARD
END:VTIMEZONE
BEGIN:VEVENT
DTSTART;TZID=Europe/Madrid:20200416T190000
DTEND;TZID=Europe/Madrid:20200416T200000
DTSTAMP:20260425T163411
CREATED:20200327T120140Z
LAST-MODIFIED:20200416T145910Z
UID:24208-1587063600-1587067200@www.imaginalcobendas.org
SUMMARY:Directo en Instagram de psicología
DESCRIPTION:Nuestras psicólogas\, además de atenderte por mail\, whatsapp o skype\, también van a hacer directos desde el Instagram de Imagina para tratar diferentes temas que aumenten tu bienestar emocional y tu salud mental.\nCada  jueves a las 19 h. conéctate a nuestro directo de Instagram en abierto @imagina_alcobendas.\nEste jueves 16 de abril hablaremos sobre la organización del tiempo en estos momentos de confinamiento y pondremos en práctica alguna técnica de relajación.\nLa Asesoría Psicológica irá proponiendo temas a tratar cada jueves\, pero también puedes mandar tus propuestas al correo electrónico psicologica@imagina.aytoalcobendas.org\nTe recordamos que la Asesoría Psicológica sigue atendiendo on line de manara individual\, confidencial y gratuita en sus horarios habituales por las mañanas martes y miércoles de 10 a 14 h. y por las tardes lunes y jueves de 17 a 21 h. Puedes pedir cita en el 600727064 (habilitado sólo hasta que finalice la cuarentena)  o en el correo electrónico   psicologica@imagina.aytoalcobendas.org\nDirigido a jóvenes.\n#QUEDATENCASA  #YOMEQUEDOENCASA
URL:https://www.imaginalcobendas.org/evento/directo-de-la-asesoria-psicologica-en-instagram-2020-04-16/
LOCATION:Alcobendas\, Madrid\, España
ATTACH;FMTTYPE=image/jpeg:https://www.imaginalcobendas.org/wp-content/uploads/2020/03/Asesoria-Psicológica-web-19h.jpg
ORGANIZER;CN="Imagina":MAILTO:oij@imagina.alcobendas.org
END:VEVENT
END:VCALENDAR