BEGIN:VCALENDAR
VERSION:2.0
PRODID:-//Imagina Alcobendas - ECPv5.14.2.1//NONSGML v1.0//EN
CALSCALE:GREGORIAN
METHOD:PUBLISH
X-WR-CALNAME:Imagina Alcobendas
X-ORIGINAL-URL:https://www.imaginalcobendas.org
X-WR-CALDESC:Eventos para Imagina Alcobendas
BEGIN:VTIMEZONE
TZID:Europe/Madrid
BEGIN:DAYLIGHT
TZOFFSETFROM:+0100
TZOFFSETTO:+0200
TZNAME:CEST
DTSTART:20200329T010000
END:DAYLIGHT
BEGIN:STANDARD
TZOFFSETFROM:+0200
TZOFFSETTO:+0100
TZNAME:CET
DTSTART:20201025T010000
END:STANDARD
END:VTIMEZONE
BEGIN:VEVENT
DTSTART;VALUE=DATE:20200413
DTEND;VALUE=DATE:20200414
DTSTAMP:20260424T173429
CREATED:20200406T124745Z
LAST-MODIFIED:20200415T163642Z
UID:24370-1586736000-1586822399@www.imaginalcobendas.org
SUMMARY:Descorona al virus #Reto8
DESCRIPTION:Descorona al virus es el Escape Room Online que te propone Imagina tu noche para estos días de confinamiento en casa.\nMás información e inscripciones \nEnigma #Reto8 El enigma del #Reto8 se publicará el lunes 13 de abril a partir de las 19h en nuestro instagram @imagina_alcobendas \nSoluciones #Reto8 El relato tendrá que contener al menos cinco de las siete palabras del crucigrama (calendario\, aguacate\,mascarilla\, tobogán\, sonrisa\, paraguas y tortuguero).\nAdemás\, tendrá que tener una extensión exacta de 234 palabras. Este número se saca haciendo el cálculo con las palabras que tienen la última letra en mayúscula: CuarentenA máS doscientaS menoS uN menoS cincO\n40 + 200 – 1 – 5 = 234
URL:https://www.imaginalcobendas.org/evento/descorona-al-virus-reto8/
LOCATION:Alcobendas\, Madrid\, España
CATEGORIES:Ocio
ATTACH;FMTTYPE=image/jpeg:https://www.imaginalcobendas.org/wp-content/uploads/2020/04/Reto-8.jpg
END:VEVENT
END:VCALENDAR