BEGIN:VCALENDAR
VERSION:2.0
PRODID:-//Imagina Alcobendas - ECPv5.14.2.1//NONSGML v1.0//EN
CALSCALE:GREGORIAN
METHOD:PUBLISH
X-WR-CALNAME:Imagina Alcobendas
X-ORIGINAL-URL:https://www.imaginalcobendas.org
X-WR-CALDESC:Eventos para Imagina Alcobendas
BEGIN:VTIMEZONE
TZID:Europe/Madrid
BEGIN:DAYLIGHT
TZOFFSETFROM:+0100
TZOFFSETTO:+0200
TZNAME:CEST
DTSTART:20170326T010000
END:DAYLIGHT
BEGIN:STANDARD
TZOFFSETFROM:+0200
TZOFFSETTO:+0100
TZNAME:CET
DTSTART:20171029T010000
END:STANDARD
END:VTIMEZONE
BEGIN:VEVENT
DTSTART;TZID=Europe/Madrid:20170228T080000
DTEND;TZID=Europe/Madrid:20170228T170000
DTSTAMP:20260424T212541
CREATED:20170130T104324Z
LAST-MODIFIED:20170130T104547Z
UID:9352-1488268800-1488301200@www.imaginalcobendas.org
SUMMARY:Curso de herramientas teatrales y educación para la sostenibilidad
DESCRIPTION:El objetivo del curso es proporcionarte técnicas teatrales para mejorar tu capacidad cómo comunicador/a\, además de dinámicas y juegos para incorporar dentro de tu trabajo en el tiempo libre con un enfoque desde la  educación ambiental.\nMás información e inscripciones
URL:https://www.imaginalcobendas.org/evento/curso-de-herramientas-teatrales-y-educacion-para-la-sostenibilidad/
LOCATION:Imagina Alcobendas\, C/Ruperto Chapí\, 18 \, Alcobendas\, Comunidad de Madrid\, 28100\, España
CATEGORIES:Cursos,Cursos y Talleres
ATTACH;FMTTYPE=image/jpeg:https://www.imaginalcobendas.org/wp-content/uploads/2012/07/teatro-2.jpg
GEO:40.5480636;-3.6442078
X-APPLE-STRUCTURED-LOCATION;VALUE=URI;X-ADDRESS=Imagina Alcobendas C/Ruperto Chapí 18  Alcobendas Comunidad de Madrid 28100 España;X-APPLE-RADIUS=500;X-TITLE=C/Ruperto Chapí\, 18:geo:-3.6442078,40.5480636
END:VEVENT
END:VCALENDAR