BEGIN:VCALENDAR
VERSION:2.0
PRODID:-//Imagina Alcobendas - ECPv5.14.2.1//NONSGML v1.0//EN
CALSCALE:GREGORIAN
METHOD:PUBLISH
X-WR-CALNAME:Imagina Alcobendas
X-ORIGINAL-URL:https://www.imaginalcobendas.org
X-WR-CALDESC:Eventos para Imagina Alcobendas
BEGIN:VTIMEZONE
TZID:Europe/Madrid
BEGIN:DAYLIGHT
TZOFFSETFROM:+0100
TZOFFSETTO:+0200
TZNAME:CEST
DTSTART:20170326T010000
END:DAYLIGHT
BEGIN:STANDARD
TZOFFSETFROM:+0200
TZOFFSETTO:+0100
TZNAME:CET
DTSTART:20171029T010000
END:STANDARD
END:VTIMEZONE
BEGIN:VEVENT
DTSTART;TZID=Europe/Madrid:20170120T190000
DTEND;TZID=Europe/Madrid:20170120T220000
DTSTAMP:20260423T214410
CREATED:20170111T115836Z
LAST-MODIFIED:20170111T115836Z
UID:9094-1484938800-1484949600@www.imaginalcobendas.org
SUMMARY:Concurso Baile Fun Funk
DESCRIPTION:El próximo viernes 20 de enero la asociación Fun Funk celebra la undécima edición de su concurso de baile. En un show al más puro estilo americano repleto de espectáculos y sorpresas\, diez grupos de baile pelearán por ser los primeros clasificados en este certamen que cada año cuenta con más y mejores actuaciones.\nSe realizará en el Centro Municipal La Esfera\, a las 19 horas.\nSi no te quieres perder este evento puedes adquirir las entradas el mismo día en taquilla desde las 16 horas. El precio varia en función de la zona de asientos entre 2€ y 3€
URL:https://www.imaginalcobendas.org/evento/concurso-baile-fun-funk/
LOCATION:Centro Municipal La Esfera\, Avenida Olímpica\, 14\, Alcobendas\, Madrid\, 28100\, España
CATEGORIES:Ocio
ATTACH;FMTTYPE=image/jpeg:https://www.imaginalcobendas.org/wp-content/uploads/2016/12/Concurso-Fun-funk.jpg
GEO:40.5371326;-3.6325421
X-APPLE-STRUCTURED-LOCATION;VALUE=URI;X-ADDRESS=Centro Municipal La Esfera Avenida Olímpica 14 Alcobendas Madrid 28100 España;X-APPLE-RADIUS=500;X-TITLE=Avenida Olímpica\, 14:geo:-3.6325421,40.5371326
END:VEVENT
END:VCALENDAR