BEGIN:VCALENDAR
VERSION:2.0
PRODID:-//Imagina Alcobendas - ECPv5.14.2.1//NONSGML v1.0//EN
CALSCALE:GREGORIAN
METHOD:PUBLISH
X-WR-CALNAME:Imagina Alcobendas
X-ORIGINAL-URL:https://www.imaginalcobendas.org
X-WR-CALDESC:Eventos para Imagina Alcobendas
BEGIN:VTIMEZONE
TZID:Europe/Madrid
BEGIN:DAYLIGHT
TZOFFSETFROM:+0100
TZOFFSETTO:+0200
TZNAME:CEST
DTSTART:20170326T010000
END:DAYLIGHT
BEGIN:STANDARD
TZOFFSETFROM:+0200
TZOFFSETTO:+0100
TZNAME:CET
DTSTART:20171029T010000
END:STANDARD
END:VTIMEZONE
BEGIN:VEVENT
DTSTART;TZID=Europe/Madrid:20170225T200000
DTEND;TZID=Europe/Madrid:20170225T230000
DTSTAMP:20260424T225128
CREATED:20170216T192506Z
LAST-MODIFIED:20170224T193321Z
UID:9538-1488052800-1488063600@www.imaginalcobendas.org
SUMMARY:Cluedo en vivo
DESCRIPTION:El sábado 25\, Imagina tu noche celebra carnaval de la mano de la Asociación Mayustacados\, con un Cluedo en vivo ambientado en un baile de máscaras. La actividad es gratuita y dará comienzo a las 20 h.\nLos bailes de máscaras fueron una característica de la temporada de Carnaval reconocida en Venecia. Ahora nosotros haremos un viaje al pasado introduciéndonos directamente en un baile de máscaras. Allí tendrá lugar un misterioso asesinato que tendremos que resolver….¡ te esperamos!
URL:https://www.imaginalcobendas.org/evento/cluedo-en-vivo/
LOCATION:Imagina Alcobendas\, C/Ruperto Chapí\, 18 \, Alcobendas\, Comunidad de Madrid\, 28100\, España
CATEGORIES:Ocio
ATTACH;FMTTYPE=image/jpeg:https://www.imaginalcobendas.org/wp-content/uploads/2016/05/Cluedo.jpg
GEO:40.5480636;-3.6442078
X-APPLE-STRUCTURED-LOCATION;VALUE=URI;X-ADDRESS=Imagina Alcobendas C/Ruperto Chapí 18  Alcobendas Comunidad de Madrid 28100 España;X-APPLE-RADIUS=500;X-TITLE=C/Ruperto Chapí\, 18:geo:-3.6442078,40.5480636
END:VEVENT
END:VCALENDAR