BEGIN:VCALENDAR
VERSION:2.0
PRODID:-//Imagina Alcobendas - ECPv5.14.2.1//NONSGML v1.0//EN
CALSCALE:GREGORIAN
METHOD:PUBLISH
X-WR-CALNAME:Imagina Alcobendas
X-ORIGINAL-URL:https://www.imaginalcobendas.org
X-WR-CALDESC:Eventos para Imagina Alcobendas
BEGIN:VTIMEZONE
TZID:Europe/Madrid
BEGIN:DAYLIGHT
TZOFFSETFROM:+0100
TZOFFSETTO:+0200
TZNAME:CEST
DTSTART:20180325T010000
END:DAYLIGHT
BEGIN:STANDARD
TZOFFSETFROM:+0200
TZOFFSETTO:+0100
TZNAME:CET
DTSTART:20181028T010000
END:STANDARD
END:VTIMEZONE
BEGIN:VEVENT
DTSTART;TZID=Europe/Madrid:20180824T223000
DTEND;TZID=Europe/Madrid:20180824T223000
DTSTAMP:20260420T223437
CREATED:20180713T111346Z
LAST-MODIFIED:20180730T090034Z
UID:16024-1535149800-1535149800@www.imaginalcobendas.org
SUMMARY:Cine de Verano "Passengers"
DESCRIPTION:Una actividad gratuita que se celebra todos los viernes de julio y agosto\, a partir de las 22:30 horas en el Parque de la Comunidad de Madrid.\nLas películas programadas son:\n• 24 de agosto: Passengers (no recomendada a menores de siete años).\n• 31 de agosto: Tadeo Jones 2: El secreto del rey Midas (para todos los públicos).
URL:https://www.imaginalcobendas.org/evento/cine-de-verano-en-alcobendas-2018-08-24/
LOCATION:Parque Comunidad de Madrid\, Miraflores s/n\, Alcobendas\, Madrid\, 28100\, España
CATEGORIES:Ocio
ATTACH;FMTTYPE=image/jpeg:https://www.imaginalcobendas.org/wp-content/uploads/2018/07/passenger.jpg
END:VEVENT
END:VCALENDAR