BEGIN:VCALENDAR
VERSION:2.0
PRODID:-//Imagina Alcobendas - ECPv5.14.2.1//NONSGML v1.0//EN
CALSCALE:GREGORIAN
METHOD:PUBLISH
X-WR-CALNAME:Imagina Alcobendas
X-ORIGINAL-URL:https://www.imaginalcobendas.org
X-WR-CALDESC:Eventos para Imagina Alcobendas
BEGIN:VTIMEZONE
TZID:Europe/Madrid
BEGIN:DAYLIGHT
TZOFFSETFROM:+0100
TZOFFSETTO:+0200
TZNAME:CEST
DTSTART:20190331T010000
END:DAYLIGHT
BEGIN:STANDARD
TZOFFSETFROM:+0200
TZOFFSETTO:+0100
TZNAME:CET
DTSTART:20191027T010000
END:STANDARD
END:VTIMEZONE
BEGIN:VEVENT
DTSTART;TZID=Europe/Madrid:20190323T200000
DTEND;TZID=Europe/Madrid:20190323T230000
DTSTAMP:20260424T062418
CREATED:20190307T153835Z
LAST-MODIFIED:20190307T153843Z
UID:19302-1553371200-1553382000@www.imaginalcobendas.org
SUMMARY:Cena en inglés\, 23 de marzo
DESCRIPTION:El sábado 23 de marzo Imagina tu noche y Movilidad Europea\, celebran una nueva edición de cenas…¡en inglés! Para que además de disfrutar de una rica cena a un precio ajustado a tu bolsillo\, puedas conocer gente y practicar tu inglés.\nMás información e inscripciones
URL:https://www.imaginalcobendas.org/evento/cena-en-ingles-23-de-marzo/
LOCATION:Imagina Alcobendas\, C/Ruperto Chapí\, 18 \, Alcobendas\, Comunidad de Madrid\, 28100\, España
CATEGORIES:Imagina Joven,Ocio
ATTACH;FMTTYPE=image/jpeg:https://www.imaginalcobendas.org/wp-content/uploads/2016/04/cenas-en-inglés.jpg
ORGANIZER;CN="Imagina":MAILTO:oij@imagina.alcobendas.org
GEO:40.5480636;-3.6442078
X-APPLE-STRUCTURED-LOCATION;VALUE=URI;X-ADDRESS=Imagina Alcobendas C/Ruperto Chapí 18  Alcobendas Comunidad de Madrid 28100 España;X-APPLE-RADIUS=500;X-TITLE=C/Ruperto Chapí\, 18:geo:-3.6442078,40.5480636
END:VEVENT
END:VCALENDAR