BEGIN:VCALENDAR
VERSION:2.0
PRODID:-//Imagina Alcobendas - ECPv5.14.2.1//NONSGML v1.0//EN
CALSCALE:GREGORIAN
METHOD:PUBLISH
X-WR-CALNAME:Imagina Alcobendas
X-ORIGINAL-URL:https://www.imaginalcobendas.org
X-WR-CALDESC:Eventos para Imagina Alcobendas
BEGIN:VTIMEZONE
TZID:Europe/Madrid
BEGIN:DAYLIGHT
TZOFFSETFROM:+0100
TZOFFSETTO:+0200
TZNAME:CEST
DTSTART:20200329T010000
END:DAYLIGHT
BEGIN:STANDARD
TZOFFSETFROM:+0200
TZOFFSETTO:+0100
TZNAME:CET
DTSTART:20201025T010000
END:STANDARD
END:VTIMEZONE
BEGIN:VEVENT
DTSTART;TZID=Europe/Madrid:20200125T180000
DTEND;TZID=Europe/Madrid:20200125T200000
DTSTAMP:20260420T011157
CREATED:20200116T172337Z
LAST-MODIFIED:20200116T172337Z
UID:23239-1579975200-1579982400@www.imaginalcobendas.org
SUMMARY:Cabaret- Champs de Follies
DESCRIPTION:La Asociación Juvenil Mayus Atacados presenta “Champs de Follies\, El Cabaret”.\nA través de una batalla de tiempo\, podrás vivir una experiencia única\, decidiendo la mejor época musical. Déjate llevar por nuestros bailarines y participa en el concurso para demostrar tus conocimientos eurovisivos. Podrás ganar un estupendo premio.\nLa cita es el sábado 25 de enero a las 19 h. en el Centro Cultural Pablo Iglesias. Entrada gratuita a recoger en taquilla desde las 18 h. hasta completar aforo.
URL:https://www.imaginalcobendas.org/evento/cabaret-champs-de-follies/
LOCATION:Centro Cultural Pablo Iglesias\, Pso. Chopera\, 54\, Alcobendas\, Madrid\, 28100\, España
CATEGORIES:Imagina Joven,Ocio,Voluntariado
ATTACH;FMTTYPE=image/jpeg:https://www.imaginalcobendas.org/wp-content/uploads/2020/01/cabaret-mayus-8x6.jpg
GEO:40.5410681;-3.6408709
X-APPLE-STRUCTURED-LOCATION;VALUE=URI;X-ADDRESS=Centro Cultural Pablo Iglesias Pso. Chopera 54 Alcobendas Madrid 28100 España;X-APPLE-RADIUS=500;X-TITLE=Pso. Chopera\, 54:geo:-3.6408709,40.5410681
END:VEVENT
END:VCALENDAR