BEGIN:VCALENDAR
VERSION:2.0
PRODID:-//Imagina Alcobendas - ECPv5.14.2.1//NONSGML v1.0//EN
CALSCALE:GREGORIAN
METHOD:PUBLISH
X-WR-CALNAME:Imagina Alcobendas
X-ORIGINAL-URL:https://www.imaginalcobendas.org
X-WR-CALDESC:Eventos para Imagina Alcobendas
BEGIN:VTIMEZONE
TZID:Europe/Madrid
BEGIN:DAYLIGHT
TZOFFSETFROM:+0100
TZOFFSETTO:+0200
TZNAME:CEST
DTSTART:20180325T010000
END:DAYLIGHT
BEGIN:STANDARD
TZOFFSETFROM:+0200
TZOFFSETTO:+0100
TZNAME:CET
DTSTART:20181028T010000
END:STANDARD
END:VTIMEZONE
BEGIN:VEVENT
DTSTART;TZID=Europe/Madrid:20180712T213000
DTEND;TZID=Europe/Madrid:20180712T233000
DTSTAMP:20260421T074944
CREATED:20180601T134603Z
LAST-MODIFIED:20180604T124722Z
UID:15461-1531431000-1531438200@www.imaginalcobendas.org
SUMMARY:Batalla de Gallos
DESCRIPTION:El  CJA organiza distintas actividades este verano para los jóvenes. Entre estas actividades se encuentra la Batalla de Gallos\, una oportunidad única para demostrar que el rap es también cultura.\nEl evento tendrá lugar el próximo 12  de julio de 21.30 a 23.30h en el Parque de las Cascadas de Alcobendas.\n 
URL:https://www.imaginalcobendas.org/evento/batalla-de-gallos/
LOCATION:Alcobendas\, Madrid\, España
CATEGORIES:Ocio
ATTACH;FMTTYPE=image/png:https://www.imaginalcobendas.org/wp-content/uploads/2018/06/noticia-batalla-gallos.png
END:VEVENT
END:VCALENDAR