BEGIN:VCALENDAR
VERSION:2.0
PRODID:-//Imagina Alcobendas - ECPv5.14.2.1//NONSGML v1.0//EN
CALSCALE:GREGORIAN
METHOD:PUBLISH
X-WR-CALNAME:Imagina Alcobendas
X-ORIGINAL-URL:https://www.imaginalcobendas.org
X-WR-CALDESC:Eventos para Imagina Alcobendas
BEGIN:VTIMEZONE
TZID:Europe/Madrid
BEGIN:DAYLIGHT
TZOFFSETFROM:+0100
TZOFFSETTO:+0200
TZNAME:CEST
DTSTART:20170326T010000
END:DAYLIGHT
BEGIN:STANDARD
TZOFFSETFROM:+0200
TZOFFSETTO:+0100
TZNAME:CET
DTSTART:20171029T010000
END:STANDARD
END:VTIMEZONE
BEGIN:VEVENT
DTSTART;TZID=Europe/Madrid:20170126T180000
DTEND;TZID=Europe/Madrid:20170126T200000
DTSTAMP:20260423T232641
CREATED:20161230T182627Z
LAST-MODIFIED:20161230T182627Z
UID:9027-1485453600-1485460800@www.imaginalcobendas.org
SUMMARY:Bailes latinos
DESCRIPTION:La Ciber ofrece un taller de bailes latinos para principiantes.  Se plantea como un espacio de encuentro a través de los bailes latinos\, donde además de aprender podremos divertirnos y conocer a gente con un mismo interés que nosotros. Estos meses empezaremos con los pasos  básicos de salsa y bachata\, continuaremos dependiendo del nivel y propuestas de los participantes. El espacio contará de dos partes una de aprendizaje y otra de práctica libre\, os esperamos el último jueves de mes de 18 a 20\, los próximos encuentros serán el 26 de enero y 23 de febrero.
URL:https://www.imaginalcobendas.org/evento/bailes-latinos-2/
CATEGORIES:Ocio
ATTACH;FMTTYPE=image/jpeg:https://www.imaginalcobendas.org/wp-content/uploads/2016/11/baile-e1480528625504.jpg
END:VEVENT
END:VCALENDAR