BEGIN:VCALENDAR
VERSION:2.0
PRODID:-//Imagina Alcobendas - ECPv5.14.2.1//NONSGML v1.0//EN
CALSCALE:GREGORIAN
METHOD:PUBLISH
X-WR-CALNAME:Imagina Alcobendas
X-ORIGINAL-URL:https://www.imaginalcobendas.org
X-WR-CALDESC:Eventos para Imagina Alcobendas
BEGIN:VTIMEZONE
TZID:Europe/Madrid
BEGIN:DAYLIGHT
TZOFFSETFROM:+0100
TZOFFSETTO:+0200
TZNAME:CEST
DTSTART:20190331T010000
END:DAYLIGHT
BEGIN:STANDARD
TZOFFSETFROM:+0200
TZOFFSETTO:+0100
TZNAME:CET
DTSTART:20191027T010000
END:STANDARD
END:VTIMEZONE
BEGIN:VEVENT
DTSTART;TZID=Europe/Madrid:20191019T180000
DTEND;TZID=Europe/Madrid:20191019T200000
DTSTAMP:20260425T134926
CREATED:20191014T145358Z
LAST-MODIFIED:20191014T145358Z
UID:22455-1571508000-1571515200@www.imaginalcobendas.org
SUMMARY:Aventurarte. Fiesta de Bienvenida
DESCRIPTION:Será una tarde de música y mucha diversión.\n¡Que se entere todo el mundo!\nNo te pierdas la fiesta que Aventurarte ha preparado para ti.\nDirigida a chicos y chicas de 10 a 14 años.
URL:https://www.imaginalcobendas.org/evento/aventurarte-fiesta-de-bienvenida/
LOCATION:Espacio Miguel Delibes\, Magia 4\, Alcobendas\, Madrid\, 28100\, España
CATEGORIES:IMAGINA KIDS,Infancia
ATTACH;FMTTYPE=image/jpeg:https://www.imaginalcobendas.org/wp-content/uploads/2016/04/fiesta-e1463486339736.jpg
END:VEVENT
END:VCALENDAR