BEGIN:VCALENDAR
VERSION:2.0
PRODID:-//Imagina Alcobendas - ECPv5.14.2.1//NONSGML v1.0//EN
CALSCALE:GREGORIAN
METHOD:PUBLISH
X-WR-CALNAME:Imagina Alcobendas
X-ORIGINAL-URL:https://www.imaginalcobendas.org
X-WR-CALDESC:Eventos para Imagina Alcobendas
BEGIN:VTIMEZONE
TZID:Europe/Madrid
BEGIN:DAYLIGHT
TZOFFSETFROM:+0100
TZOFFSETTO:+0200
TZNAME:CEST
DTSTART:20200329T010000
END:DAYLIGHT
BEGIN:STANDARD
TZOFFSETFROM:+0200
TZOFFSETTO:+0100
TZNAME:CET
DTSTART:20201025T010000
END:STANDARD
END:VTIMEZONE
BEGIN:VEVENT
DTSTART;TZID=Europe/Madrid:20200413T170000
DTEND;TZID=Europe/Madrid:20200413T210000
DTSTAMP:20260424T190044
CREATED:20200407T112227Z
LAST-MODIFIED:20200407T113101Z
UID:24426-1586797200-1586811600@www.imaginalcobendas.org
SUMMARY:Asesoría Psicológica Virtual
DESCRIPTION:Sabemos que es difícil no poder salir de casa\, no ver a tus amigos\, a tu pareja\, que la sobreinformación abruma\, no saber cuánto va a durar esto\, que a veces resulta difícil ser  tan obediente…por todo ello\, decidimos seguir estando ahí para ti.\nLa Asesoría Psicológica te puede ayudar en esta situación de confinamiento ofreciéndote  un espacio seguro de escucha\, información\, orientación\, prevención y asesoramiento psicológico\, garantizando la confidencialidad e intimidad de manera virtual.\nSi eres un/a joven de Alcobendas y tienes entre 14 y 35 años\, puedes pedir cita para ser atendido por psicólogos/as en el 600727064 (habilitado sólo hasta que finalice la cuarentena)  o en el correo electrónico psicologica@imagina.aytoalcobendas.org.\nLa Asesoría Psicológica es gratuita\, atenderá por teléfono \, correo electrónico o videollamada y continuará en su horario habitual\, por las mañanas martes y miércoles de 10 a 14 h. y por las tardes lunes y jueves de 17 a 21 h.
URL:https://www.imaginalcobendas.org/evento/asesoria-psicologica-virtual-2020-04-13/
LOCATION:Alcobendas\, Madrid\, España
ATTACH;FMTTYPE=image/jpeg:https://www.imaginalcobendas.org/wp-content/uploads/2020/04/psicológica.jpg
END:VEVENT
END:VCALENDAR