BEGIN:VCALENDAR
VERSION:2.0
PRODID:-//Imagina Alcobendas - ECPv5.14.2.1//NONSGML v1.0//EN
CALSCALE:GREGORIAN
METHOD:PUBLISH
X-WR-CALNAME:Imagina Alcobendas
X-ORIGINAL-URL:https://www.imaginalcobendas.org
X-WR-CALDESC:Eventos para Imagina Alcobendas
BEGIN:VTIMEZONE
TZID:Europe/Madrid
BEGIN:DAYLIGHT
TZOFFSETFROM:+0100
TZOFFSETTO:+0200
TZNAME:CEST
DTSTART:20200329T010000
END:DAYLIGHT
BEGIN:STANDARD
TZOFFSETFROM:+0200
TZOFFSETTO:+0100
TZNAME:CET
DTSTART:20201025T010000
END:STANDARD
END:VTIMEZONE
BEGIN:VEVENT
DTSTART;TZID=Europe/Madrid:20200901T100000
DTEND;TZID=Europe/Madrid:20200901T140000
DTSTAMP:20260423T180426
CREATED:20200902T083601Z
LAST-MODIFIED:20200902T124211Z
UID:26484-1598954400-1598968800@www.imaginalcobendas.org
SUMMARY:Asesoría Psicológica
DESCRIPTION:Durante la primera quincena de septiembre la Asesoría Psicológica atenderá de manera presencial martes\, miércoles y jueves de 10 a 14 h.\nTambién online los lunes de 17 a 21 h.\nCita previa en el teléfono 91 6590957
URL:https://www.imaginalcobendas.org/evento/asesoria-psicologica-4/2020-09-01/
LOCATION:Alcobendas\, Madrid\, España
ATTACH;FMTTYPE=image/jpeg:https://www.imaginalcobendas.org/wp-content/uploads/2020/07/pensativa.jpg
END:VEVENT
END:VCALENDAR