BEGIN:VCALENDAR
VERSION:2.0
PRODID:-//Imagina Alcobendas - ECPv5.14.2.1//NONSGML v1.0//EN
CALSCALE:GREGORIAN
METHOD:PUBLISH
X-WR-CALNAME:Imagina Alcobendas
X-ORIGINAL-URL:https://www.imaginalcobendas.org
X-WR-CALDESC:Eventos para Imagina Alcobendas
BEGIN:VTIMEZONE
TZID:Europe/Madrid
BEGIN:DAYLIGHT
TZOFFSETFROM:+0100
TZOFFSETTO:+0200
TZNAME:CEST
DTSTART:20190331T010000
END:DAYLIGHT
BEGIN:STANDARD
TZOFFSETFROM:+0200
TZOFFSETTO:+0100
TZNAME:CET
DTSTART:20191027T010000
END:STANDARD
END:VTIMEZONE
BEGIN:VEVENT
DTSTART;TZID=Europe/Madrid:20190511T233000
DTEND;TZID=Europe/Madrid:20190511T233000
DTSTAMP:20260425T144810
CREATED:20190509T185845Z
LAST-MODIFIED:20190509T185847Z
UID:20113-1557617400-1557617400@www.imaginalcobendas.org
SUMMARY:Alcobendas MiX. #SanIsidro2019
DESCRIPTION:Volvemos a una gran época del pasado escuchando la mejor música de la década de los 2000\, haz un remember y deja que aquellos recuerdos vuelvan a tu memoria.\nEsta actividad gratuita se llevará a cabo en la caseta del Consejo de la juventud de 02 a 03 de la madrugada.
URL:https://www.imaginalcobendas.org/evento/alcobendas-mix-sanisidro2019/
LOCATION:Recinto ferial\, Avda. Valdelaparra\, s/n\, Alcobendas\, España
CATEGORIES:Ocio
ATTACH;FMTTYPE=image/jpeg:https://www.imaginalcobendas.org/wp-content/uploads/2019/05/musica-concierto.jpg
GEO:40.5400304;-3.6514709
X-APPLE-STRUCTURED-LOCATION;VALUE=URI;X-ADDRESS=Recinto ferial Avda. Valdelaparra s/n Alcobendas España;X-APPLE-RADIUS=500;X-TITLE=Avda. Valdelaparra\, s/n:geo:-3.6514709,40.5400304
END:VEVENT
END:VCALENDAR