BEGIN:VCALENDAR
VERSION:2.0
PRODID:-//Imagina Alcobendas - ECPv5.14.2.1//NONSGML v1.0//EN
CALSCALE:GREGORIAN
METHOD:PUBLISH
X-WR-CALNAME:Imagina Alcobendas
X-ORIGINAL-URL:https://www.imaginalcobendas.org
X-WR-CALDESC:Eventos para Imagina Alcobendas
BEGIN:VTIMEZONE
TZID:Europe/Madrid
BEGIN:DAYLIGHT
TZOFFSETFROM:+0100
TZOFFSETTO:+0200
TZNAME:CEST
DTSTART:20230326T010000
END:DAYLIGHT
BEGIN:STANDARD
TZOFFSETFROM:+0200
TZOFFSETTO:+0100
TZNAME:CET
DTSTART:20231029T010000
END:STANDARD
END:VTIMEZONE
BEGIN:VEVENT
DTSTART;VALUE=DATE:20230708
DTEND;VALUE=DATE:20230709
DTSTAMP:20260424T033657
CREATED:20230606T180500Z
LAST-MODIFIED:20230606T180730Z
UID:39034-1688774400-1688860799@www.imaginalcobendas.org
SUMMARY:Descuentos Atlantis
DESCRIPTION:Los vecinos y vecinas de Alcobendas están de suerte\, este verano pueden acudir al Atlantis Aquarium Madrid con precios especiales\, sólo por vivir en Alcobendas. ¡Este verano diversión a tope!!!\nSe presentará el DNI o certificado de empadronamiento en las taquillas del parque para acreditar residir en el municipio. Válido para la persona empadronada y 3 acompañantes.\nOfertas válidas para los días indicados. Promociones no acumulables a otros descuentos.\nATL (Atlantis Aquarium Madrid)\n8 y 9 de julio 2023\nPrecio: 9\,90€\nCompra de entradas en taquilla\nwww.atlantisaquarium-madrid.es\n \nConsulta otros Open Days 2023
URL:https://www.imaginalcobendas.org/evento/39034/2023-07-08/
LOCATION:Alcobendas\, Madrid\, España
CATEGORIES:Ocio
ATTACH;FMTTYPE=image/jpeg:https://www.imaginalcobendas.org/wp-content/uploads/2021/08/atlantis.jpg
GEO:40.4167754;-3.7037902
END:VEVENT
END:VCALENDAR