BEGIN:VCALENDAR
VERSION:2.0
PRODID:-//Imagina Alcobendas - ECPv5.14.2.1//NONSGML v1.0//EN
CALSCALE:GREGORIAN
METHOD:PUBLISH
X-WR-CALNAME:Imagina Alcobendas
X-ORIGINAL-URL:https://www.imaginalcobendas.org
X-WR-CALDESC:Eventos para Imagina Alcobendas
BEGIN:VTIMEZONE
TZID:Europe/Madrid
BEGIN:DAYLIGHT
TZOFFSETFROM:+0100
TZOFFSETTO:+0200
TZNAME:CEST
DTSTART:20170326T010000
END:DAYLIGHT
BEGIN:STANDARD
TZOFFSETFROM:+0200
TZOFFSETTO:+0100
TZNAME:CET
DTSTART:20171029T010000
END:STANDARD
END:VTIMEZONE
BEGIN:VEVENT
DTSTART;TZID=Europe/Madrid:20170923T180000
DTEND;TZID=Europe/Madrid:20170923T210000
DTSTAMP:20260423T130637
CREATED:20170914T082121Z
LAST-MODIFIED:20170920T145223Z
UID:12638-1506189600-1506200400@www.imaginalcobendas.org
SUMMARY:10º Feria Asociativa
DESCRIPTION:El Consejo de la Juventud de Alcobendas celebra su 10ª Feria Juvenil Asociativa\, con el fin de dar a conocer el funcionamiento\, organización y actividades del propio Consejo de la Juventud y de las asociaciones que lo componen\, e Imagina tu noche estará allí para celebrarlo con los jóvenes del municipio con unas Mini Olimpiadas.
URL:https://www.imaginalcobendas.org/evento/10o-feria-asociativa/
LOCATION:Plaza Mayor\, Plaza Mayor\, Alcobendas\, Madrid\, 28100
CATEGORIES:Ocio
ATTACH;FMTTYPE=image/png:https://www.imaginalcobendas.org/wp-content/uploads/2017/09/10-feria-asociativa-ok.png
END:VEVENT
END:VCALENDAR