BEGIN:VCALENDAR
VERSION:2.0
PRODID:-//Imagina Alcobendas - ECPv5.14.2.1//NONSGML v1.0//EN
CALSCALE:GREGORIAN
METHOD:PUBLISH
X-WR-CALNAME:Imagina Alcobendas
X-ORIGINAL-URL:https://www.imaginalcobendas.org
X-WR-CALDESC:Eventos para Imagina Alcobendas
BEGIN:VTIMEZONE
TZID:Europe/Madrid
BEGIN:DAYLIGHT
TZOFFSETFROM:+0100
TZOFFSETTO:+0200
TZNAME:CEST
DTSTART:20210328T010000
END:DAYLIGHT
BEGIN:STANDARD
TZOFFSETFROM:+0200
TZOFFSETTO:+0100
TZNAME:CET
DTSTART:20211031T010000
END:STANDARD
END:VTIMEZONE
BEGIN:VEVENT
DTSTART;TZID=Europe/Madrid:20210410T180000
DTEND;TZID=Europe/Madrid:20210410T210000
DTSTAMP:20260424T125259
CREATED:20210318T074024Z
LAST-MODIFIED:20210408T115115Z
UID:29745-1618077600-1618088400@www.imaginalcobendas.org
SUMMARY:Imagina Suena flamenca
DESCRIPTION:En Abril\, Imagina Suena\, se pone flamenca.\nLa cita es en la “La Esfera” donde podremos disfrutar del mejor talento local en un concierto ofrecido por la juventud más flamenca de Alcobendas.\n\nReserva entrada
URL:https://www.imaginalcobendas.org/evento/imagina-suena-flamenca/
LOCATION:Centro municipal La Esfera\, Avda.Olímpica 14\, Alcobendas\, Madrid\, 28100\, España
CATEGORIES:Ocio
ATTACH;FMTTYPE=image/jpeg:https://www.imaginalcobendas.org/wp-content/uploads/2021/03/2021-04-10-Imagina-Suena-800x600-1.jpg
GEO:40.5371326;-3.6325421
X-APPLE-STRUCTURED-LOCATION;VALUE=URI;X-ADDRESS=Centro municipal La Esfera Avda.Olímpica 14 Alcobendas Madrid 28100 España;X-APPLE-RADIUS=500;X-TITLE=Avda.Olímpica 14:geo:-3.6325421,40.5371326
END:VEVENT
BEGIN:VEVENT
DTSTART;TZID=Europe/Madrid:20210410T200000
DTEND;TZID=Europe/Madrid:20210410T213000
DTSTAMP:20260424T125259
CREATED:20210205T164136Z
LAST-MODIFIED:20210205T164136Z
UID:29106-1618084800-1618090200@www.imaginalcobendas.org
SUMMARY:Castelvines & monteses
DESCRIPTION:Romeo y Julieta en versión comedia musical.\nCastelvines y Monteses es una fiesta del teatro. Es poner el verso de Lope\, la historia de Bandello\, el juego de la versión de Rojas Zorrilla\, el vuelo de Shakespeare y la acidez\nde Quevedo al servicio de un espectáculo lleno de humor\, juego\, música\, magia\, acrobacia\, clown\, baile. 13 actrices y actores que abrazan los versos de Lope de Vega y se enamoran y enamoran con su talento actoral\, su dominio del cuerpo\, del canto y de los instrumentos con los que ambientan los devenires de Julia y Roselo\, Celia y Marín\, Dorotea y Anselmo. A diferencia de Shakespeare\, Lope escribe una comedia con la historia de los amantes de Verona.\nPuedes disfrutar de este espectáculo\, por sólo 3 €.\nMás info
URL:https://www.imaginalcobendas.org/evento/castelvines-monteses/
LOCATION:Teatro Auditorio\, C/ Blas de Otero \, 4\, Alcobendas\, Madrid\, 28100\, España
CATEGORIES:Imagina Joven,Ocio
ATTACH;FMTTYPE=image/jpeg:https://www.imaginalcobendas.org/wp-content/uploads/2021/02/castelvines-y-monteses-ok.jpg
GEO:40.5481327;-3.6421979
X-APPLE-STRUCTURED-LOCATION;VALUE=URI;X-ADDRESS=Teatro Auditorio C/ Blas de Otero  4 Alcobendas Madrid 28100 España;X-APPLE-RADIUS=500;X-TITLE=C/ Blas de Otero \, 4:geo:-3.6421979,40.5481327
END:VEVENT
END:VCALENDAR